BEGIN:VCALENDAR
VERSION:2.0
PRODID:-//The Music Workshop - ECPv6.8.3//NONSGML v1.0//EN
CALSCALE:GREGORIAN
METHOD:PUBLISH
X-WR-CALNAME:The Music Workshop
X-ORIGINAL-URL:https://musicworkshopfolkestone.co.uk
X-WR-CALDESC:Events for The Music Workshop
REFRESH-INTERVAL;VALUE=DURATION:PT1H
X-Robots-Tag:noindex
X-PUBLISHED-TTL:PT1H
BEGIN:VTIMEZONE
TZID:Europe/London
BEGIN:DAYLIGHT
TZOFFSETFROM:+0000
TZOFFSETTO:+0100
TZNAME:BST
DTSTART:20280326T010000
END:DAYLIGHT
BEGIN:STANDARD
TZOFFSETFROM:+0100
TZOFFSETTO:+0000
TZNAME:GMT
DTSTART:20281029T010000
END:STANDARD
END:VTIMEZONE
BEGIN:VEVENT
DTSTART;TZID=Europe/London:20280207T190000
DTEND;TZID=Europe/London:20280207T210000
DTSTAMP:20260423T060311
CREATED:20260213T021722Z
LAST-MODIFIED:20260422T181856Z
UID:10003311-1833562800-1833570000@musicworkshopfolkestone.co.uk
SUMMARY:Folkestone A Cappella Choir Rehearsals - Every Monday
DESCRIPTION:Folkestone A Cappella is a welcoming and friendly vocal group focused on creating beautiful harmonies together. We meet every Monday from 7-9pm at The Music Workshop\, Folkestone.
URL:https://musicworkshopfolkestone.co.uk/calendar/folkestone-a-cappella-choir-rehearsals-every-monday-312/
ATTACH;FMTTYPE=image/png:https://musicworkshopfolkestone.co.uk/wp-content/uploads/2026/02/Choir-pc-3.png
END:VEVENT
BEGIN:VEVENT
DTSTART;TZID=Europe/London:20280218T190000
DTEND;TZID=Europe/London:20280218T230000
DTSTAMP:20260423T060311
CREATED:20260218T030241Z
LAST-MODIFIED:20260422T181856Z
UID:10003317-1834513200-1834527600@musicworkshopfolkestone.co.uk
SUMMARY:Musical Bingo hosted by AiMATE
DESCRIPTION:Join us for a lively night of Musical Bingo at The Music Workshop. Hosted by the brilliant AiMATE\, this isn’t your average bingo night – expect great tunes\, singing along\, plenty of laughs\, and some fun prizes up for grabs. \n🎟 £5 per ticket (includes bingo cards)🎉 Music\, prizes\, and a full-on Friday night atmosphere⚠️ Not a quiet event – get ready to sing\, cheer\, and enjoy yourself!
URL:https://musicworkshopfolkestone.co.uk/calendar/musical-bingo-hosted-by-aimate-35/
ATTACH;FMTTYPE=image/jpeg:https://musicworkshopfolkestone.co.uk/wp-content/uploads/2026/02/PHOTO-2026-01-07-21-37-15.jpg
END:VEVENT
BEGIN:VEVENT
DTSTART;TZID=Europe/London:20280221T190000
DTEND;TZID=Europe/London:20280221T210000
DTSTAMP:20260423T060311
CREATED:20260227T044702Z
LAST-MODIFIED:20260422T181856Z
UID:10003322-1834772400-1834779600@musicworkshopfolkestone.co.uk
SUMMARY:Folkestone A Cappella Choir Rehearsals - Every Monday
DESCRIPTION:Folkestone A Cappella is a welcoming and friendly vocal group focused on creating beautiful harmonies together. We meet every Monday from 7-9pm at The Music Workshop\, Folkestone.
URL:https://musicworkshopfolkestone.co.uk/calendar/folkestone-a-cappella-choir-rehearsals-every-monday-321/
ATTACH;FMTTYPE=image/png:https://musicworkshopfolkestone.co.uk/wp-content/uploads/2026/02/Choir-pc-5.png
END:VEVENT
BEGIN:VEVENT
DTSTART;TZID=Europe/London:20280227T160000
DTEND;TZID=Europe/London:20280227T180000
DTSTAMP:20260423T060311
CREATED:20260227T190216Z
LAST-MODIFIED:20260422T183123Z
UID:10003323-1835280000-1835287200@musicworkshopfolkestone.co.uk
SUMMARY:Lucy May Walker's Writer's Round
DESCRIPTION:Lucy May Walker’s monthly Writer’s Round is an afternoon of original music in the style of a Nashville writers round where 3 featured artists sit on the stage at the same time and take turns in playing their songs & telling the stories behind them. Discover your new favourite artist in an intimate\, cosy setting by the seaside.
URL:https://musicworkshopfolkestone.co.uk/calendar/lucy-may-walkers-writers-round-37/
END:VEVENT
BEGIN:VEVENT
DTSTART;TZID=Europe/London:20280228T190000
DTEND;TZID=Europe/London:20280228T210000
DTSTAMP:20260423T060311
CREATED:20260307T061621Z
LAST-MODIFIED:20260422T181856Z
UID:10003324-1835377200-1835384400@musicworkshopfolkestone.co.uk
SUMMARY:Folkestone A Cappella Choir Rehearsals - Every Monday
DESCRIPTION:Folkestone A Cappella is a welcoming and friendly vocal group focused on creating beautiful harmonies together. We meet every Monday from 7-9pm at The Music Workshop\, Folkestone.
URL:https://musicworkshopfolkestone.co.uk/calendar/folkestone-a-cappella-choir-rehearsals-every-monday-330/
ATTACH;FMTTYPE=image/png:https://musicworkshopfolkestone.co.uk/wp-content/uploads/2026/03/Choir-pc-1.png
END:VEVENT
BEGIN:VEVENT
DTSTART;TZID=Europe/London:20280303T190000
DTEND;TZID=Europe/London:20280303T230000
DTSTAMP:20260423T060311
CREATED:20260416T174933Z
LAST-MODIFIED:20260422T183123Z
UID:10003359-1835722800-1835737200@musicworkshopfolkestone.co.uk
SUMMARY:MUSIC QUIZ: SMASHED HITS
DESCRIPTION:The Ultimate Millennial Music Quiz\n£5 per player – maximum of 6 players per team 7pm
URL:https://musicworkshopfolkestone.co.uk/calendar/music-quiz-smashed-hits-23/
END:VEVENT
BEGIN:VEVENT
DTSTART;TZID=Europe/London:20280306T190000
DTEND;TZID=Europe/London:20280306T210000
DTSTAMP:20260423T060311
CREATED:20260307T061626Z
LAST-MODIFIED:20260422T181856Z
UID:10003325-1835982000-1835989200@musicworkshopfolkestone.co.uk
SUMMARY:Folkestone A Cappella Choir Rehearsals - Every Monday
DESCRIPTION:Folkestone A Cappella is a welcoming and friendly vocal group focused on creating beautiful harmonies together. We meet every Monday from 7-9pm at The Music Workshop\, Folkestone.
URL:https://musicworkshopfolkestone.co.uk/calendar/folkestone-a-cappella-choir-rehearsals-every-monday-331/
ATTACH;FMTTYPE=image/png:https://musicworkshopfolkestone.co.uk/wp-content/uploads/2026/03/Choir-pc-2.png
END:VEVENT
BEGIN:VEVENT
DTSTART;TZID=Europe/London:20280313T190000
DTEND;TZID=Europe/London:20280313T210000
DTSTAMP:20260423T060311
CREATED:20260314T123325Z
LAST-MODIFIED:20260422T181856Z
UID:10003330-1836586800-1836594000@musicworkshopfolkestone.co.uk
SUMMARY:Folkestone A Cappella Choir Rehearsals - Every Monday
DESCRIPTION:Folkestone A Cappella is a welcoming and friendly vocal group focused on creating beautiful harmonies together. We meet every Monday from 7-9pm at The Music Workshop\, Folkestone.
URL:https://musicworkshopfolkestone.co.uk/calendar/folkestone-a-cappella-choir-rehearsals-every-monday-335/
ATTACH;FMTTYPE=image/png:https://musicworkshopfolkestone.co.uk/wp-content/uploads/2026/03/Choir-pc-4.png
END:VEVENT
BEGIN:VEVENT
DTSTART;TZID=Europe/London:20280317T190000
DTEND;TZID=Europe/London:20280317T230000
DTSTAMP:20260423T060311
CREATED:20260318T130137Z
LAST-MODIFIED:20260422T181856Z
UID:10003331-1836932400-1836946800@musicworkshopfolkestone.co.uk
SUMMARY:Musical Bingo hosted by AiMATE
DESCRIPTION:Join us for a lively night of Musical Bingo at The Music Workshop. Hosted by the brilliant AiMATE\, this isn’t your average bingo night – expect great tunes\, singing along\, plenty of laughs\, and some fun prizes up for grabs. \n🎟 £5 per ticket (includes bingo cards)🎉 Music\, prizes\, and a full-on Friday night atmosphere⚠️ Not a quiet event – get ready to sing\, cheer\, and enjoy yourself!
URL:https://musicworkshopfolkestone.co.uk/calendar/musical-bingo-hosted-by-aimate-37/
ATTACH;FMTTYPE=image/jpeg:https://musicworkshopfolkestone.co.uk/wp-content/uploads/2026/03/PHOTO-2026-01-07-21-37-15.jpg
END:VEVENT
BEGIN:VEVENT
DTSTART;TZID=Europe/London:20280320T190000
DTEND;TZID=Europe/London:20280320T210000
DTSTAMP:20260423T060311
CREATED:20260321T131804Z
LAST-MODIFIED:20260422T181907Z
UID:10003333-1837191600-1837198800@musicworkshopfolkestone.co.uk
SUMMARY:Folkestone A Cappella Choir Rehearsals - Every Monday
DESCRIPTION:Folkestone A Cappella is a welcoming and friendly vocal group focused on creating beautiful harmonies together. We meet every Monday from 7-9pm at The Music Workshop\, Folkestone.
URL:https://musicworkshopfolkestone.co.uk/calendar/folkestone-a-cappella-choir-rehearsals-every-monday-338/
ATTACH;FMTTYPE=image/png:https://musicworkshopfolkestone.co.uk/wp-content/uploads/2026/03/Choir-pc-6.png
END:VEVENT
BEGIN:VEVENT
DTSTART;TZID=Europe/London:20280326T160000
DTEND;TZID=Europe/London:20280326T180000
DTSTAMP:20260423T060311
CREATED:20260326T143118Z
LAST-MODIFIED:20260422T183123Z
UID:10003334-1837699200-1837706400@musicworkshopfolkestone.co.uk
SUMMARY:Lucy May Walker's Writer's Round
DESCRIPTION:Lucy May Walker’s monthly Writer’s Round is an afternoon of original music in the style of a Nashville writers round where 3 featured artists sit on the stage at the same time and take turns in playing their songs & telling the stories behind them. Discover your new favourite artist in an intimate\, cosy setting by the seaside.
URL:https://musicworkshopfolkestone.co.uk/calendar/lucy-may-walkers-writers-round-38/
END:VEVENT
BEGIN:VEVENT
DTSTART;TZID=Europe/London:20280327T190000
DTEND;TZID=Europe/London:20280327T210000
DTSTAMP:20260423T060311
CREATED:20260327T141612Z
LAST-MODIFIED:20260422T181907Z
UID:10003335-1837796400-1837803600@musicworkshopfolkestone.co.uk
SUMMARY:Folkestone A Cappella Choir Rehearsals - Every Monday
DESCRIPTION:Folkestone A Cappella is a welcoming and friendly vocal group focused on creating beautiful harmonies together. We meet every Monday from 7-9pm at The Music Workshop\, Folkestone.
URL:https://musicworkshopfolkestone.co.uk/calendar/folkestone-a-cappella-choir-rehearsals-every-monday-339/
ATTACH;FMTTYPE=image/png:https://musicworkshopfolkestone.co.uk/wp-content/uploads/2026/03/Choir-pc-7.png
END:VEVENT
BEGIN:VEVENT
DTSTART;TZID=Europe/London:20280403T190000
DTEND;TZID=Europe/London:20280403T210000
DTSTAMP:20260423T060311
CREATED:20260406T154748Z
LAST-MODIFIED:20260422T181907Z
UID:10003336-1838401200-1838408400@musicworkshopfolkestone.co.uk
SUMMARY:Folkestone A Cappella Choir Rehearsals - Every Monday
DESCRIPTION:Folkestone A Cappella is a welcoming and friendly vocal group focused on creating beautiful harmonies together. We meet every Monday from 7-9pm at The Music Workshop\, Folkestone.
URL:https://musicworkshopfolkestone.co.uk/calendar/folkestone-a-cappella-choir-rehearsals-every-monday-344/
ATTACH;FMTTYPE=image/png:https://musicworkshopfolkestone.co.uk/wp-content/uploads/2026/04/Choir-pc-1.png
END:VEVENT
BEGIN:VEVENT
DTSTART;TZID=Europe/London:20280407T190000
DTEND;TZID=Europe/London:20280407T230000
DTSTAMP:20260423T060311
CREATED:20260416T174933Z
LAST-MODIFIED:20260422T183123Z
UID:10003360-1838746800-1838761200@musicworkshopfolkestone.co.uk
SUMMARY:MUSIC QUIZ: SMASHED HITS
DESCRIPTION:The Ultimate Millennial Music Quiz\n£5 per player – maximum of 6 players per team 7pm
URL:https://musicworkshopfolkestone.co.uk/calendar/music-quiz-smashed-hits-24/
END:VEVENT
BEGIN:VEVENT
DTSTART;TZID=Europe/London:20280410T190000
DTEND;TZID=Europe/London:20280410T210000
DTSTAMP:20260423T060311
CREATED:20260410T163457Z
LAST-MODIFIED:20260422T181907Z
UID:10003337-1839006000-1839013200@musicworkshopfolkestone.co.uk
SUMMARY:Folkestone A Cappella Choir Rehearsals - Every Monday
DESCRIPTION:Folkestone A Cappella is a welcoming and friendly vocal group focused on creating beautiful harmonies together. We meet every Monday from 7-9pm at The Music Workshop\, Folkestone.
URL:https://musicworkshopfolkestone.co.uk/calendar/folkestone-a-cappella-choir-rehearsals-every-monday-345/
ATTACH;FMTTYPE=image/png:https://musicworkshopfolkestone.co.uk/wp-content/uploads/2026/04/Choir-pc-2.png
END:VEVENT
BEGIN:VEVENT
DTSTART;TZID=Europe/London:20280417T190000
DTEND;TZID=Europe/London:20280417T210000
DTSTAMP:20260423T060311
CREATED:20260417T174649Z
LAST-MODIFIED:20260422T181907Z
UID:10003361-1839610800-1839618000@musicworkshopfolkestone.co.uk
SUMMARY:Folkestone A Cappella Choir Rehearsals - Every Monday
DESCRIPTION:Folkestone A Cappella is a welcoming and friendly vocal group focused on creating beautiful harmonies together. We meet every Monday from 7-9pm at The Music Workshop\, Folkestone.
URL:https://musicworkshopfolkestone.co.uk/calendar/folkestone-a-cappella-choir-rehearsals-every-monday-346/
ATTACH;FMTTYPE=image/png:https://musicworkshopfolkestone.co.uk/wp-content/uploads/2026/04/Choir-pc-3.png
END:VEVENT
BEGIN:VEVENT
DTSTART;TZID=Europe/London:20280421T190000
DTEND;TZID=Europe/London:20280421T230000
DTSTAMP:20260423T060311
CREATED:20260421T181654Z
LAST-MODIFIED:20260422T181907Z
UID:10003362-1839956400-1839970800@musicworkshopfolkestone.co.uk
SUMMARY:Musical Bingo hosted by AiMATE
DESCRIPTION:Join us for a lively night of Musical Bingo at The Music Workshop. Hosted by the brilliant AiMATE\, this isn’t your average bingo night – expect great tunes\, singing along\, plenty of laughs\, and some fun prizes up for grabs. \n🎟 £5 per ticket (includes bingo cards)🎉 Music\, prizes\, and a full-on Friday night atmosphere⚠️ Not a quiet event – get ready to sing\, cheer\, and enjoy yourself!
URL:https://musicworkshopfolkestone.co.uk/calendar/musical-bingo-hosted-by-aimate-38/
ATTACH;FMTTYPE=image/jpeg:https://musicworkshopfolkestone.co.uk/wp-content/uploads/2026/04/PHOTO-2026-01-07-21-37-15.jpg
END:VEVENT
END:VCALENDAR