BEGIN:VCALENDAR
VERSION:2.0
PRODID:-//The Music Workshop - ECPv6.8.3//NONSGML v1.0//EN
CALSCALE:GREGORIAN
METHOD:PUBLISH
X-ORIGINAL-URL:https://musicworkshopfolkestone.co.uk
X-WR-CALDESC:Events for The Music Workshop
REFRESH-INTERVAL;VALUE=DURATION:PT1H
X-Robots-Tag:noindex
X-PUBLISHED-TTL:PT1H
BEGIN:VTIMEZONE
TZID:Europe/London
BEGIN:DAYLIGHT
TZOFFSETFROM:+0000
TZOFFSETTO:+0100
TZNAME:BST
DTSTART:20270328T010000
END:DAYLIGHT
BEGIN:STANDARD
TZOFFSETFROM:+0100
TZOFFSETTO:+0000
TZNAME:GMT
DTSTART:20271031T010000
END:STANDARD
END:VTIMEZONE
BEGIN:VEVENT
DTSTART;TZID=Europe/London:20270602T190000
DTEND;TZID=Europe/London:20270602T220000
DTSTAMP:20260422T233951
CREATED:20250922T195411Z
LAST-MODIFIED:20251018T140814Z
UID:10003002-1811962800-1811973600@musicworkshopfolkestone.co.uk
SUMMARY:The Guitar Workshop
DESCRIPTION:On Wednesday evenings\, The Music Workshop transforms into our guitar club. In a fun and supportive environment\, we’ll learn a setlist of songs tailored for all levels\, from beginners to advanced players. At the end of each term\, we come together for a group performance at The Music Workshop\, showcasing what we’ve learned to an audience. \nincluded each week:\n– 90-minute group session\, learning new songs and skills in a fun\, relaxed environment.\n– Expert group and individual tutoring.\n– A chance to jam and socialize after the session.\nClick below to find out more and join our group: \nThe Guitar Workshop
URL:https://musicworkshopfolkestone.co.uk/calendar/the-guitar-workshop-132/
ATTACH;FMTTYPE=image/png:https://musicworkshopfolkestone.co.uk/wp-content/uploads/2025/09/The-Guitar-Workshop-GG-1.png
END:VEVENT
BEGIN:VEVENT
DTSTART;TZID=Europe/London:20270603T180000
DTEND;TZID=Europe/London:20270603T230000
DTSTAMP:20260422T233951
CREATED:20251008T151526Z
LAST-MODIFIED:20251204T230950Z
UID:10003137-1812045600-1812063600@musicworkshopfolkestone.co.uk
SUMMARY:Thirsty Thursday Karaoke
DESCRIPTION:•Happy Hour all night\n•£4 pints\n•Happy Hour cocktails\n•Sing a karaoke song – get a free shot!
URL:https://musicworkshopfolkestone.co.uk/calendar/karaoke-cocktails-93/
ATTACH;FMTTYPE=image/png:https://musicworkshopfolkestone.co.uk/wp-content/uploads/2025/10/Best-Karaoke1-87.png
END:VEVENT
BEGIN:VEVENT
DTSTART;TZID=Europe/London:20270604T180000
DTEND;TZID=Europe/London:20270604T230000
DTSTAMP:20260422T233951
CREATED:20250922T195420Z
LAST-MODIFIED:20260118T213413Z
UID:10003003-1812132000-1812150000@musicworkshopfolkestone.co.uk
SUMMARY:Jimmy's Jam
DESCRIPTION:Jam Night hosted by Jimmy and the Riddles – first Friday of every month\, free entry!
URL:https://musicworkshopfolkestone.co.uk/calendar/jimmys-jam-29/
END:VEVENT
BEGIN:VEVENT
DTSTART;TZID=Europe/London:20270604T190000
DTEND;TZID=Europe/London:20270604T230000
DTSTAMP:20260422T233951
CREATED:20260416T174932Z
LAST-MODIFIED:20260422T183122Z
UID:10003350-1812135600-1812150000@musicworkshopfolkestone.co.uk
SUMMARY:MUSIC QUIZ: SMASHED HITS
DESCRIPTION:The Ultimate Millennial Music Quiz\n£5 per player – maximum of 6 players per team 7pm
URL:https://musicworkshopfolkestone.co.uk/calendar/music-quiz-smashed-hits-14/
END:VEVENT
BEGIN:VEVENT
DTSTART;TZID=Europe/London:20270607T190000
DTEND;TZID=Europe/London:20270607T210000
DTSTAMP:20260422T233951
CREATED:20250922T195420Z
LAST-MODIFIED:20260422T181752Z
UID:10003004-1812394800-1812402000@musicworkshopfolkestone.co.uk
SUMMARY:Folkestone A Cappella Choir Rehearsals - Every Monday
DESCRIPTION:Folkestone A Cappella is a welcoming and friendly vocal group focused on creating beautiful harmonies together. We meet every Monday from 7-9pm at The Music Workshop\, Folkestone.
URL:https://musicworkshopfolkestone.co.uk/calendar/folkestone-a-cappella-choir-rehearsals-every-monday-253/
ATTACH;FMTTYPE=image/png:https://musicworkshopfolkestone.co.uk/wp-content/uploads/2025/09/Choir-pc-14.png
END:VEVENT
BEGIN:VEVENT
DTSTART;TZID=Europe/London:20270609T190000
DTEND;TZID=Europe/London:20270609T220000
DTSTAMP:20260422T233951
CREATED:20250922T195425Z
LAST-MODIFIED:20251018T140814Z
UID:10003005-1812567600-1812578400@musicworkshopfolkestone.co.uk
SUMMARY:The Guitar Workshop
DESCRIPTION:On Wednesday evenings\, The Music Workshop transforms into our guitar club. In a fun and supportive environment\, we’ll learn a setlist of songs tailored for all levels\, from beginners to advanced players. At the end of each term\, we come together for a group performance at The Music Workshop\, showcasing what we’ve learned to an audience. \nincluded each week:\n– 90-minute group session\, learning new songs and skills in a fun\, relaxed environment.\n– Expert group and individual tutoring.\n– A chance to jam and socialize after the session.\nClick below to find out more and join our group: \nThe Guitar Workshop
URL:https://musicworkshopfolkestone.co.uk/calendar/the-guitar-workshop-133/
ATTACH;FMTTYPE=image/png:https://musicworkshopfolkestone.co.uk/wp-content/uploads/2025/09/The-Guitar-Workshop-GG-2.png
END:VEVENT
BEGIN:VEVENT
DTSTART;TZID=Europe/London:20270610T180000
DTEND;TZID=Europe/London:20270610T230000
DTSTAMP:20260422T233951
CREATED:20251008T151532Z
LAST-MODIFIED:20251204T230950Z
UID:10003138-1812650400-1812668400@musicworkshopfolkestone.co.uk
SUMMARY:Thirsty Thursday Karaoke
DESCRIPTION:•Happy Hour all night\n•£4 pints\n•Happy Hour cocktails\n•Sing a karaoke song – get a free shot!
URL:https://musicworkshopfolkestone.co.uk/calendar/karaoke-cocktails-94/
ATTACH;FMTTYPE=image/png:https://musicworkshopfolkestone.co.uk/wp-content/uploads/2025/10/Best-Karaoke1-88.png
END:VEVENT
BEGIN:VEVENT
DTSTART;TZID=Europe/London:20270614T190000
DTEND;TZID=Europe/London:20270614T210000
DTSTAMP:20260422T233951
CREATED:20250922T195433Z
LAST-MODIFIED:20260422T181804Z
UID:10003006-1812999600-1813006800@musicworkshopfolkestone.co.uk
SUMMARY:Folkestone A Cappella Choir Rehearsals - Every Monday
DESCRIPTION:Folkestone A Cappella is a welcoming and friendly vocal group focused on creating beautiful harmonies together. We meet every Monday from 7-9pm at The Music Workshop\, Folkestone.
URL:https://musicworkshopfolkestone.co.uk/calendar/folkestone-a-cappella-choir-rehearsals-every-monday-254/
ATTACH;FMTTYPE=image/png:https://musicworkshopfolkestone.co.uk/wp-content/uploads/2025/09/Choir-pc-15.png
END:VEVENT
BEGIN:VEVENT
DTSTART;TZID=Europe/London:20270616T190000
DTEND;TZID=Europe/London:20270616T220000
DTSTAMP:20260422T233951
CREATED:20250922T195438Z
LAST-MODIFIED:20251018T140814Z
UID:10003007-1813172400-1813183200@musicworkshopfolkestone.co.uk
SUMMARY:The Guitar Workshop
DESCRIPTION:On Wednesday evenings\, The Music Workshop transforms into our guitar club. In a fun and supportive environment\, we’ll learn a setlist of songs tailored for all levels\, from beginners to advanced players. At the end of each term\, we come together for a group performance at The Music Workshop\, showcasing what we’ve learned to an audience. \nincluded each week:\n– 90-minute group session\, learning new songs and skills in a fun\, relaxed environment.\n– Expert group and individual tutoring.\n– A chance to jam and socialize after the session.\nClick below to find out more and join our group: \nThe Guitar Workshop
URL:https://musicworkshopfolkestone.co.uk/calendar/the-guitar-workshop-134/
ATTACH;FMTTYPE=image/png:https://musicworkshopfolkestone.co.uk/wp-content/uploads/2025/09/The-Guitar-Workshop-GG-3.png
END:VEVENT
BEGIN:VEVENT
DTSTART;TZID=Europe/London:20270617T180000
DTEND;TZID=Europe/London:20270617T230000
DTSTAMP:20260422T233951
CREATED:20251011T153302Z
LAST-MODIFIED:20251204T230950Z
UID:10003139-1813255200-1813273200@musicworkshopfolkestone.co.uk
SUMMARY:Thirsty Thursday Karaoke
DESCRIPTION:•Happy Hour all night\n•£4 pints\n•Happy Hour cocktails\n•Sing a karaoke song – get a free shot!
URL:https://musicworkshopfolkestone.co.uk/calendar/karaoke-cocktails-97/
ATTACH;FMTTYPE=image/png:https://musicworkshopfolkestone.co.uk/wp-content/uploads/2025/10/Best-Karaoke1-89.png
END:VEVENT
BEGIN:VEVENT
DTSTART;TZID=Europe/London:20270618T190000
DTEND;TZID=Europe/London:20270618T230000
DTSTAMP:20260422T233951
CREATED:20250922T195446Z
LAST-MODIFIED:20260422T181804Z
UID:10003008-1813345200-1813359600@musicworkshopfolkestone.co.uk
SUMMARY:Musical Bingo hosted by AiMATE
DESCRIPTION:Join us for a lively night of Musical Bingo at The Music Workshop. Hosted by the brilliant AiMATE\, this isn’t your average bingo night – expect great tunes\, singing along\, plenty of laughs\, and some fun prizes up for grabs. \n🎟 £5 per ticket (includes bingo cards)🎉 Music\, prizes\, and a full-on Friday night atmosphere⚠️ Not a quiet event – get ready to sing\, cheer\, and enjoy yourself!
URL:https://musicworkshopfolkestone.co.uk/calendar/musical-bingo-hosted-by-aimate-27/
ATTACH;FMTTYPE=image/jpeg:https://musicworkshopfolkestone.co.uk/wp-content/uploads/2025/09/PHOTO-2026-01-07-21-37-15-1.jpg
END:VEVENT
BEGIN:VEVENT
DTSTART;TZID=Europe/London:20270621T190000
DTEND;TZID=Europe/London:20270621T210000
DTSTAMP:20260422T233951
CREATED:20250922T195446Z
LAST-MODIFIED:20260422T181804Z
UID:10003009-1813604400-1813611600@musicworkshopfolkestone.co.uk
SUMMARY:Folkestone A Cappella Choir Rehearsals - Every Monday
DESCRIPTION:Folkestone A Cappella is a welcoming and friendly vocal group focused on creating beautiful harmonies together. We meet every Monday from 7-9pm at The Music Workshop\, Folkestone.
URL:https://musicworkshopfolkestone.co.uk/calendar/folkestone-a-cappella-choir-rehearsals-every-monday-255/
ATTACH;FMTTYPE=image/png:https://musicworkshopfolkestone.co.uk/wp-content/uploads/2025/09/Choir-pc-16.png
END:VEVENT
BEGIN:VEVENT
DTSTART;TZID=Europe/London:20270623T190000
DTEND;TZID=Europe/London:20270623T220000
DTSTAMP:20260422T233951
CREATED:20250922T195452Z
LAST-MODIFIED:20251018T140814Z
UID:10003010-1813777200-1813788000@musicworkshopfolkestone.co.uk
SUMMARY:The Guitar Workshop
DESCRIPTION:On Wednesday evenings\, The Music Workshop transforms into our guitar club. In a fun and supportive environment\, we’ll learn a setlist of songs tailored for all levels\, from beginners to advanced players. At the end of each term\, we come together for a group performance at The Music Workshop\, showcasing what we’ve learned to an audience. \nincluded each week:\n– 90-minute group session\, learning new songs and skills in a fun\, relaxed environment.\n– Expert group and individual tutoring.\n– A chance to jam and socialize after the session.\nClick below to find out more and join our group: \nThe Guitar Workshop
URL:https://musicworkshopfolkestone.co.uk/calendar/the-guitar-workshop-135/
ATTACH;FMTTYPE=image/png:https://musicworkshopfolkestone.co.uk/wp-content/uploads/2025/09/The-Guitar-Workshop-GG-4.png
END:VEVENT
BEGIN:VEVENT
DTSTART;TZID=Europe/London:20270624T180000
DTEND;TZID=Europe/London:20270624T230000
DTSTAMP:20260422T233951
CREATED:20251014T133721Z
LAST-MODIFIED:20251204T231003Z
UID:10003140-1813860000-1813878000@musicworkshopfolkestone.co.uk
SUMMARY:Thirsty Thursday Karaoke
DESCRIPTION:•Happy Hour all night\n•£4 pints\n•Happy Hour cocktails\n•Sing a karaoke song – get a free shot!
URL:https://musicworkshopfolkestone.co.uk/calendar/thirsty-thursday-karaoke/
ATTACH;FMTTYPE=image/png:https://musicworkshopfolkestone.co.uk/wp-content/uploads/2025/10/Thirsty-Thursday-Karaoke-1.png
END:VEVENT
BEGIN:VEVENT
DTSTART;TZID=Europe/London:20270627T160000
DTEND;TZID=Europe/London:20270627T180000
DTSTAMP:20260422T233951
CREATED:20250627T084651Z
LAST-MODIFIED:20260422T183122Z
UID:10002930-1814112000-1814119200@musicworkshopfolkestone.co.uk
SUMMARY:Lucy May Walker's Writer's Round
DESCRIPTION:Lucy May Walker’s monthly Writer’s Round is an afternoon of original music in the style of a Nashville writers round where 3 featured artists sit on the stage at the same time and take turns in playing their songs & telling the stories behind them. Discover your new favourite artist in an intimate\, cosy setting by the seaside.
URL:https://musicworkshopfolkestone.co.uk/calendar/lucy-may-walkers-writers-round-29/
END:VEVENT
BEGIN:VEVENT
DTSTART;TZID=Europe/London:20270628T190000
DTEND;TZID=Europe/London:20270628T210000
DTSTAMP:20260422T233951
CREATED:20250922T195459Z
LAST-MODIFIED:20260422T181804Z
UID:10003011-1814209200-1814216400@musicworkshopfolkestone.co.uk
SUMMARY:Folkestone A Cappella Choir Rehearsals - Every Monday
DESCRIPTION:Folkestone A Cappella is a welcoming and friendly vocal group focused on creating beautiful harmonies together. We meet every Monday from 7-9pm at The Music Workshop\, Folkestone.
URL:https://musicworkshopfolkestone.co.uk/calendar/folkestone-a-cappella-choir-rehearsals-every-monday-256/
ATTACH;FMTTYPE=image/png:https://musicworkshopfolkestone.co.uk/wp-content/uploads/2025/09/Choir-pc-17.png
END:VEVENT
BEGIN:VEVENT
DTSTART;TZID=Europe/London:20270630T190000
DTEND;TZID=Europe/London:20270630T220000
DTSTAMP:20260422T233951
CREATED:20250922T195505Z
LAST-MODIFIED:20251018T140815Z
UID:10003012-1814382000-1814392800@musicworkshopfolkestone.co.uk
SUMMARY:The Guitar Workshop
DESCRIPTION:On Wednesday evenings\, The Music Workshop transforms into our guitar club. In a fun and supportive environment\, we’ll learn a setlist of songs tailored for all levels\, from beginners to advanced players. At the end of each term\, we come together for a group performance at The Music Workshop\, showcasing what we’ve learned to an audience. \nincluded each week:\n– 90-minute group session\, learning new songs and skills in a fun\, relaxed environment.\n– Expert group and individual tutoring.\n– A chance to jam and socialize after the session.\nClick below to find out more and join our group: \nThe Guitar Workshop
URL:https://musicworkshopfolkestone.co.uk/calendar/the-guitar-workshop-136/
ATTACH;FMTTYPE=image/png:https://musicworkshopfolkestone.co.uk/wp-content/uploads/2025/09/The-Guitar-Workshop-GG-5.png
END:VEVENT
BEGIN:VEVENT
DTSTART;TZID=Europe/London:20270701T180000
DTEND;TZID=Europe/London:20270701T230000
DTSTAMP:20260422T233951
CREATED:20251014T133726Z
LAST-MODIFIED:20251204T231003Z
UID:10003141-1814464800-1814482800@musicworkshopfolkestone.co.uk
SUMMARY:Thirsty Thursday Karaoke
DESCRIPTION:•Happy Hour all night\n•£4 pints\n•Happy Hour cocktails\n•Sing a karaoke song – get a free shot!
URL:https://musicworkshopfolkestone.co.uk/calendar/thirsty-thursday-karaoke-2/
ATTACH;FMTTYPE=image/png:https://musicworkshopfolkestone.co.uk/wp-content/uploads/2025/10/Thirsty-Thursday-Karaoke-2.png
END:VEVENT
BEGIN:VEVENT
DTSTART;TZID=Europe/London:20270702T180000
DTEND;TZID=Europe/London:20270702T230000
DTSTAMP:20260422T233951
CREATED:20250922T195513Z
LAST-MODIFIED:20260118T213425Z
UID:10003013-1814551200-1814569200@musicworkshopfolkestone.co.uk
SUMMARY:Jimmy's Jam
DESCRIPTION:Jam Night hosted by Jimmy and the Riddles – first Friday of every month\, free entry!
URL:https://musicworkshopfolkestone.co.uk/calendar/jimmys-jam-30/
END:VEVENT
BEGIN:VEVENT
DTSTART;TZID=Europe/London:20270702T190000
DTEND;TZID=Europe/London:20270702T230000
DTSTAMP:20260422T233951
CREATED:20260416T174932Z
LAST-MODIFIED:20260422T183123Z
UID:10003351-1814554800-1814569200@musicworkshopfolkestone.co.uk
SUMMARY:MUSIC QUIZ: SMASHED HITS
DESCRIPTION:The Ultimate Millennial Music Quiz\n£5 per player – maximum of 6 players per team 7pm
URL:https://musicworkshopfolkestone.co.uk/calendar/music-quiz-smashed-hits-15/
END:VEVENT
BEGIN:VEVENT
DTSTART;TZID=Europe/London:20270705T190000
DTEND;TZID=Europe/London:20270705T210000
DTSTAMP:20260422T233951
CREATED:20250922T195513Z
LAST-MODIFIED:20260422T181804Z
UID:10003014-1814814000-1814821200@musicworkshopfolkestone.co.uk
SUMMARY:Folkestone A Cappella Choir Rehearsals - Every Monday
DESCRIPTION:Folkestone A Cappella is a welcoming and friendly vocal group focused on creating beautiful harmonies together. We meet every Monday from 7-9pm at The Music Workshop\, Folkestone.
URL:https://musicworkshopfolkestone.co.uk/calendar/folkestone-a-cappella-choir-rehearsals-every-monday-257/
ATTACH;FMTTYPE=image/png:https://musicworkshopfolkestone.co.uk/wp-content/uploads/2025/09/Choir-pc-18.png
END:VEVENT
BEGIN:VEVENT
DTSTART;TZID=Europe/London:20270707T190000
DTEND;TZID=Europe/London:20270707T220000
DTSTAMP:20260422T233951
CREATED:20250922T195518Z
LAST-MODIFIED:20251018T140815Z
UID:10003015-1814986800-1814997600@musicworkshopfolkestone.co.uk
SUMMARY:The Guitar Workshop
DESCRIPTION:On Wednesday evenings\, The Music Workshop transforms into our guitar club. In a fun and supportive environment\, we’ll learn a setlist of songs tailored for all levels\, from beginners to advanced players. At the end of each term\, we come together for a group performance at The Music Workshop\, showcasing what we’ve learned to an audience. \nincluded each week:\n– 90-minute group session\, learning new songs and skills in a fun\, relaxed environment.\n– Expert group and individual tutoring.\n– A chance to jam and socialize after the session.\nClick below to find out more and join our group: \nThe Guitar Workshop
URL:https://musicworkshopfolkestone.co.uk/calendar/the-guitar-workshop-137/
ATTACH;FMTTYPE=image/png:https://musicworkshopfolkestone.co.uk/wp-content/uploads/2025/09/The-Guitar-Workshop-GG-6.png
END:VEVENT
BEGIN:VEVENT
DTSTART;TZID=Europe/London:20270708T180000
DTEND;TZID=Europe/London:20270708T230000
DTSTAMP:20260422T233951
CREATED:20251202T224709Z
LAST-MODIFIED:20251204T231003Z
UID:10003238-1815069600-1815087600@musicworkshopfolkestone.co.uk
SUMMARY:Thirsty Thursday Karaoke
DESCRIPTION:•Happy Hour all night\n•£4 pints\n•Happy Hour cocktails\n•Sing a karaoke song – get a free shot!
URL:https://musicworkshopfolkestone.co.uk/calendar/thirsty-thursday-karaoke-11/
ATTACH;FMTTYPE=image/png:https://musicworkshopfolkestone.co.uk/wp-content/uploads/2025/12/Thirsty-Thursday-Karaoke-1.png
END:VEVENT
BEGIN:VEVENT
DTSTART;TZID=Europe/London:20270712T190000
DTEND;TZID=Europe/London:20270712T210000
DTSTAMP:20260422T233951
CREATED:20250922T195526Z
LAST-MODIFIED:20260422T181804Z
UID:10003016-1815418800-1815426000@musicworkshopfolkestone.co.uk
SUMMARY:Folkestone A Cappella Choir Rehearsals - Every Monday
DESCRIPTION:Folkestone A Cappella is a welcoming and friendly vocal group focused on creating beautiful harmonies together. We meet every Monday from 7-9pm at The Music Workshop\, Folkestone.
URL:https://musicworkshopfolkestone.co.uk/calendar/folkestone-a-cappella-choir-rehearsals-every-monday-258/
ATTACH;FMTTYPE=image/png:https://musicworkshopfolkestone.co.uk/wp-content/uploads/2025/09/Choir-pc-19.png
END:VEVENT
BEGIN:VEVENT
DTSTART;TZID=Europe/London:20270714T190000
DTEND;TZID=Europe/London:20270714T220000
DTSTAMP:20260422T233951
CREATED:20250922T195531Z
LAST-MODIFIED:20251002T212518Z
UID:10003017-1815591600-1815602400@musicworkshopfolkestone.co.uk
SUMMARY:The Guitar Workshop
DESCRIPTION:On Wednesday evenings\, The Music Workshop transforms into our guitar club. In a fun and supportive environment\, we’ll learn a setlist of songs tailored for all levels\, from beginners to advanced players. At the end of each term\, we come together for a group performance at The Music Workshop\, showcasing what we’ve learned to an audience. \nincluded each week:\n– 90-minute group session\, learning new songs and skills in a fun\, relaxed environment.\n– Expert group and individual tutoring.\n– A chance to jam and socialize after the session.\nClick below to find out more and join our group: \nThe Guitar Workshop
URL:https://musicworkshopfolkestone.co.uk/calendar/the-guitar-workshop-138/
ATTACH;FMTTYPE=image/png:https://musicworkshopfolkestone.co.uk/wp-content/uploads/2025/09/The-Guitar-Workshop-GG-7.png
END:VEVENT
BEGIN:VEVENT
DTSTART;TZID=Europe/London:20270715T180000
DTEND;TZID=Europe/London:20270715T230000
DTSTAMP:20260422T233951
CREATED:20251202T224714Z
LAST-MODIFIED:20251204T231003Z
UID:10003239-1815674400-1815692400@musicworkshopfolkestone.co.uk
SUMMARY:Thirsty Thursday Karaoke
DESCRIPTION:•Happy Hour all night\n•£4 pints\n•Happy Hour cocktails\n•Sing a karaoke song – get a free shot!
URL:https://musicworkshopfolkestone.co.uk/calendar/thirsty-thursday-karaoke-12/
ATTACH;FMTTYPE=image/png:https://musicworkshopfolkestone.co.uk/wp-content/uploads/2025/12/Thirsty-Thursday-Karaoke-2.png
END:VEVENT
BEGIN:VEVENT
DTSTART;TZID=Europe/London:20270716T190000
DTEND;TZID=Europe/London:20270716T230000
DTSTAMP:20260422T233951
CREATED:20250922T195539Z
LAST-MODIFIED:20260422T181804Z
UID:10003018-1815764400-1815778800@musicworkshopfolkestone.co.uk
SUMMARY:Musical Bingo hosted by AiMATE
DESCRIPTION:Join us for a lively night of Musical Bingo at The Music Workshop. Hosted by the brilliant AiMATE\, this isn’t your average bingo night – expect great tunes\, singing along\, plenty of laughs\, and some fun prizes up for grabs. \n🎟 £5 per ticket (includes bingo cards)🎉 Music\, prizes\, and a full-on Friday night atmosphere⚠️ Not a quiet event – get ready to sing\, cheer\, and enjoy yourself!
URL:https://musicworkshopfolkestone.co.uk/calendar/musical-bingo-hosted-by-aimate-28/
ATTACH;FMTTYPE=image/jpeg:https://musicworkshopfolkestone.co.uk/wp-content/uploads/2025/09/PHOTO-2026-01-07-21-37-15-2.jpg
END:VEVENT
BEGIN:VEVENT
DTSTART;TZID=Europe/London:20270719T190000
DTEND;TZID=Europe/London:20270719T210000
DTSTAMP:20260422T233951
CREATED:20250922T195539Z
LAST-MODIFIED:20260422T181804Z
UID:10003019-1816023600-1816030800@musicworkshopfolkestone.co.uk
SUMMARY:Folkestone A Cappella Choir Rehearsals - Every Monday
DESCRIPTION:Folkestone A Cappella is a welcoming and friendly vocal group focused on creating beautiful harmonies together. We meet every Monday from 7-9pm at The Music Workshop\, Folkestone.
URL:https://musicworkshopfolkestone.co.uk/calendar/folkestone-a-cappella-choir-rehearsals-every-monday-259/
ATTACH;FMTTYPE=image/png:https://musicworkshopfolkestone.co.uk/wp-content/uploads/2025/09/Choir-pc-20.png
END:VEVENT
BEGIN:VEVENT
DTSTART;TZID=Europe/London:20270721T190000
DTEND;TZID=Europe/London:20270721T220000
DTSTAMP:20260422T233951
CREATED:20250922T195545Z
LAST-MODIFIED:20251002T212518Z
UID:10003020-1816196400-1816207200@musicworkshopfolkestone.co.uk
SUMMARY:The Guitar Workshop
DESCRIPTION:On Wednesday evenings\, The Music Workshop transforms into our guitar club. In a fun and supportive environment\, we’ll learn a setlist of songs tailored for all levels\, from beginners to advanced players. At the end of each term\, we come together for a group performance at The Music Workshop\, showcasing what we’ve learned to an audience. \nincluded each week:\n– 90-minute group session\, learning new songs and skills in a fun\, relaxed environment.\n– Expert group and individual tutoring.\n– A chance to jam and socialize after the session.\nClick below to find out more and join our group: \nThe Guitar Workshop
URL:https://musicworkshopfolkestone.co.uk/calendar/the-guitar-workshop-139/
ATTACH;FMTTYPE=image/png:https://musicworkshopfolkestone.co.uk/wp-content/uploads/2025/09/The-Guitar-Workshop-GG-8.png
END:VEVENT
BEGIN:VEVENT
DTSTART;TZID=Europe/London:20270722T180000
DTEND;TZID=Europe/London:20270722T230000
DTSTAMP:20260422T233951
CREATED:20251202T224720Z
LAST-MODIFIED:20251204T231014Z
UID:10003240-1816279200-1816297200@musicworkshopfolkestone.co.uk
SUMMARY:Thirsty Thursday Karaoke
DESCRIPTION:•Happy Hour all night\n•£4 pints\n•Happy Hour cocktails\n•Sing a karaoke song – get a free shot!
URL:https://musicworkshopfolkestone.co.uk/calendar/thirsty-thursday-karaoke-13/
ATTACH;FMTTYPE=image/png:https://musicworkshopfolkestone.co.uk/wp-content/uploads/2025/12/Thirsty-Thursday-Karaoke-3.png
END:VEVENT
END:VCALENDAR