BEGIN:VCALENDAR
VERSION:2.0
PRODID:-//The Music Workshop - ECPv6.8.3//NONSGML v1.0//EN
CALSCALE:GREGORIAN
METHOD:PUBLISH
X-ORIGINAL-URL:https://musicworkshopfolkestone.co.uk
X-WR-CALDESC:Events for The Music Workshop
REFRESH-INTERVAL;VALUE=DURATION:PT1H
X-Robots-Tag:noindex
X-PUBLISHED-TTL:PT1H
BEGIN:VTIMEZONE
TZID:Europe/London
BEGIN:DAYLIGHT
TZOFFSETFROM:+0000
TZOFFSETTO:+0100
TZNAME:BST
DTSTART:20270328T010000
END:DAYLIGHT
BEGIN:STANDARD
TZOFFSETFROM:+0100
TZOFFSETTO:+0000
TZNAME:GMT
DTSTART:20271031T010000
END:STANDARD
END:VTIMEZONE
BEGIN:VEVENT
DTSTART;TZID=Europe/London:20270416T190000
DTEND;TZID=Europe/London:20270416T230000
DTSTAMP:20260422T085857
CREATED:20250726T110604Z
LAST-MODIFIED:20260421T181651Z
UID:10002959-1807902000-1807916400@musicworkshopfolkestone.co.uk
SUMMARY:Musical Bingo hosted by AiMATE
DESCRIPTION:Join us for a lively night of Musical Bingo at The Music Workshop. Hosted by the brilliant AiMATE\, this isn’t your average bingo night – expect great tunes\, singing along\, plenty of laughs\, and some fun prizes up for grabs. \n🎟 £5 per ticket (includes bingo cards)🎉 Music\, prizes\, and a full-on Friday night atmosphere⚠️ Not a quiet event – get ready to sing\, cheer\, and enjoy yourself!
URL:https://musicworkshopfolkestone.co.uk/calendar/musical-bingo-hosted-by-aimate-25/
ATTACH;FMTTYPE=image/jpeg:https://musicworkshopfolkestone.co.uk/wp-content/uploads/2025/07/PHOTO-2026-01-07-21-37-15.jpg
END:VEVENT
BEGIN:VEVENT
DTSTART;TZID=Europe/London:20270416T190000
DTEND;TZID=Europe/London:20270416T230000
DTSTAMP:20260422T085857
CREATED:20250730T095801Z
LAST-MODIFIED:20250909T170143Z
UID:10002965-1807902000-1807916400@musicworkshopfolkestone.co.uk
SUMMARY:Friday Karaoke Night at The Music Workshop
DESCRIPTION:It’s Friday night\, and the stage is yours. At The Music Workshop\, we’ve got the massive screen\, the stage lights\, and the sound ready for you to take the mic and own it.\nWhether you’re here to sing your go-to anthem\, try something new\, or just soak up the buzz\, Karaoke Night is always a good time. Bring your friends\, pick a song\, and feel the energy as the room gets behind every performance.\nAnd don’t forget to try our handcrafted pizzas and signature cocktails while you’re here!\n#FolkestoneKaraoke #KaraokeNight #SingOnStage #FolkestoneEvents #TheMusicWorkshop #FridayNightVibes #KaraokeFun #HandcraftedPizzas\n#SignatureCocktails #FolkestoneEats\n#FoodAndMusic
URL:https://musicworkshopfolkestone.co.uk/calendar/friday-karaoke-night-at-the-music-workshop-140/
ATTACH;FMTTYPE=image/png:https://musicworkshopfolkestone.co.uk/wp-content/uploads/2025/07/Best-Karaoke1-3.png
END:VEVENT
BEGIN:VEVENT
DTSTART;TZID=Europe/London:20270419T190000
DTEND;TZID=Europe/London:20270419T210000
DTSTAMP:20260422T085857
CREATED:20250731T100338Z
LAST-MODIFIED:20260421T181651Z
UID:10002966-1808161200-1808168400@musicworkshopfolkestone.co.uk
SUMMARY:Folkestone A Cappella Choir Rehearsals - Every Monday
DESCRIPTION:Folkestone A Cappella is a welcoming and friendly vocal group focused on creating beautiful harmonies together. We meet every Monday from 7-9pm at The Music Workshop\, Folkestone.
URL:https://musicworkshopfolkestone.co.uk/calendar/folkestone-a-cappella-choir-rehearsals-every-monday-222/
ATTACH;FMTTYPE=image/png:https://musicworkshopfolkestone.co.uk/wp-content/uploads/2025/07/Choir-pc-3.png
END:VEVENT
BEGIN:VEVENT
DTSTART;TZID=Europe/London:20270421T190000
DTEND;TZID=Europe/London:20270421T220000
DTSTAMP:20260422T085857
CREATED:20250802T103152Z
LAST-MODIFIED:20251018T140813Z
UID:10002967-1808334000-1808344800@musicworkshopfolkestone.co.uk
SUMMARY:The Guitar Workshop
DESCRIPTION:On Wednesday evenings\, The Music Workshop transforms into our guitar club. In a fun and supportive environment\, we’ll learn a setlist of songs tailored for all levels\, from beginners to advanced players. At the end of each term\, we come together for a group performance at The Music Workshop\, showcasing what we’ve learned to an audience. \nincluded each week:\n– 90-minute group session\, learning new songs and skills in a fun\, relaxed environment.\n– Expert group and individual tutoring.\n– A chance to jam and socialize after the session.\nClick below to find out more and join our group: \nThe Guitar Workshop
URL:https://musicworkshopfolkestone.co.uk/calendar/the-guitar-workshop-125/
ATTACH;FMTTYPE=image/png:https://musicworkshopfolkestone.co.uk/wp-content/uploads/2025/08/The-Guitar-Workshop-GG.png
END:VEVENT
BEGIN:VEVENT
DTSTART;TZID=Europe/London:20270422T180000
DTEND;TZID=Europe/London:20270422T230000
DTSTAMP:20260422T085857
CREATED:20251008T151447Z
LAST-MODIFIED:20251204T230938Z
UID:10003131-1808416800-1808434800@musicworkshopfolkestone.co.uk
SUMMARY:Thirsty Thursday Karaoke
DESCRIPTION:•Happy Hour all night\n•£4 pints\n•Happy Hour cocktails\n•Sing a karaoke song – get a free shot!
URL:https://musicworkshopfolkestone.co.uk/calendar/karaoke-cocktails-87/
ATTACH;FMTTYPE=image/png:https://musicworkshopfolkestone.co.uk/wp-content/uploads/2025/10/Best-Karaoke1-81.png
END:VEVENT
BEGIN:VEVENT
DTSTART;TZID=Europe/London:20270423T190000
DTEND;TZID=Europe/London:20270423T230000
DTSTAMP:20260422T085857
CREATED:20250805T103518Z
LAST-MODIFIED:20250909T170143Z
UID:10002968-1808506800-1808521200@musicworkshopfolkestone.co.uk
SUMMARY:Friday Karaoke Night at The Music Workshop
DESCRIPTION:It’s Friday night\, and the stage is yours. At The Music Workshop\, we’ve got the massive screen\, the stage lights\, and the sound ready for you to take the mic and own it.\nWhether you’re here to sing your go-to anthem\, try something new\, or just soak up the buzz\, Karaoke Night is always a good time. Bring your friends\, pick a song\, and feel the energy as the room gets behind every performance.\nAnd don’t forget to try our handcrafted pizzas and signature cocktails while you’re here!\n#FolkestoneKaraoke #KaraokeNight #SingOnStage #FolkestoneEvents #TheMusicWorkshop #FridayNightVibes #KaraokeFun #HandcraftedPizzas\n#SignatureCocktails #FolkestoneEats\n#FoodAndMusic
URL:https://musicworkshopfolkestone.co.uk/calendar/friday-karaoke-night-at-the-music-workshop-141/
ATTACH;FMTTYPE=image/png:https://musicworkshopfolkestone.co.uk/wp-content/uploads/2025/08/Best-Karaoke1.png
END:VEVENT
BEGIN:VEVENT
DTSTART;TZID=Europe/London:20270425T160000
DTEND;TZID=Europe/London:20270425T180000
DTSTAMP:20260422T085857
CREATED:20250425T134111Z
LAST-MODIFIED:20260421T183136Z
UID:10002892-1808668800-1808676000@musicworkshopfolkestone.co.uk
SUMMARY:Lucy May Walker's Writer's Round
DESCRIPTION:Lucy May Walker’s monthly Writer’s Round is an afternoon of original music in the style of a Nashville writers round where 3 featured artists sit on the stage at the same time and take turns in playing their songs & telling the stories behind them. Discover your new favourite artist in an intimate\, cosy setting by the seaside.
URL:https://musicworkshopfolkestone.co.uk/calendar/lucy-may-walkers-writers-round-27/
END:VEVENT
BEGIN:VEVENT
DTSTART;TZID=Europe/London:20270426T190000
DTEND;TZID=Europe/London:20270426T210000
DTSTAMP:20260422T085857
CREATED:20250807T104039Z
LAST-MODIFIED:20260421T181652Z
UID:10002970-1808766000-1808773200@musicworkshopfolkestone.co.uk
SUMMARY:Folkestone A Cappella Choir Rehearsals - Every Monday
DESCRIPTION:Folkestone A Cappella is a welcoming and friendly vocal group focused on creating beautiful harmonies together. We meet every Monday from 7-9pm at The Music Workshop\, Folkestone.
URL:https://musicworkshopfolkestone.co.uk/calendar/folkestone-a-cappella-choir-rehearsals-every-monday-223/
ATTACH;FMTTYPE=image/png:https://musicworkshopfolkestone.co.uk/wp-content/uploads/2025/08/Choir-pc.png
END:VEVENT
BEGIN:VEVENT
DTSTART;TZID=Europe/London:20270428T190000
DTEND;TZID=Europe/London:20270428T220000
DTSTAMP:20260422T085857
CREATED:20250809T110947Z
LAST-MODIFIED:20251018T140814Z
UID:10002971-1808938800-1808949600@musicworkshopfolkestone.co.uk
SUMMARY:The Guitar Workshop
DESCRIPTION:On Wednesday evenings\, The Music Workshop transforms into our guitar club. In a fun and supportive environment\, we’ll learn a setlist of songs tailored for all levels\, from beginners to advanced players. At the end of each term\, we come together for a group performance at The Music Workshop\, showcasing what we’ve learned to an audience. \nincluded each week:\n– 90-minute group session\, learning new songs and skills in a fun\, relaxed environment.\n– Expert group and individual tutoring.\n– A chance to jam and socialize after the session.\nClick below to find out more and join our group: \nThe Guitar Workshop
URL:https://musicworkshopfolkestone.co.uk/calendar/the-guitar-workshop-126/
ATTACH;FMTTYPE=image/png:https://musicworkshopfolkestone.co.uk/wp-content/uploads/2025/08/The-Guitar-Workshop-GG-1.png
END:VEVENT
BEGIN:VEVENT
DTSTART;TZID=Europe/London:20270429T180000
DTEND;TZID=Europe/London:20270429T230000
DTSTAMP:20260422T085857
CREATED:20251008T151453Z
LAST-MODIFIED:20251204T230938Z
UID:10003132-1809021600-1809039600@musicworkshopfolkestone.co.uk
SUMMARY:Thirsty Thursday Karaoke
DESCRIPTION:•Happy Hour all night\n•£4 pints\n•Happy Hour cocktails\n•Sing a karaoke song – get a free shot!
URL:https://musicworkshopfolkestone.co.uk/calendar/karaoke-cocktails-88/
ATTACH;FMTTYPE=image/png:https://musicworkshopfolkestone.co.uk/wp-content/uploads/2025/10/Best-Karaoke1-82.png
END:VEVENT
BEGIN:VEVENT
DTSTART;TZID=Europe/London:20270430T190000
DTEND;TZID=Europe/London:20270430T230000
DTSTAMP:20260422T085857
CREATED:20250812T111819Z
LAST-MODIFIED:20250909T170143Z
UID:10002972-1809111600-1809126000@musicworkshopfolkestone.co.uk
SUMMARY:Friday Karaoke Night at The Music Workshop
DESCRIPTION:It’s Friday night\, and the stage is yours. At The Music Workshop\, we’ve got the massive screen\, the stage lights\, and the sound ready for you to take the mic and own it.\nWhether you’re here to sing your go-to anthem\, try something new\, or just soak up the buzz\, Karaoke Night is always a good time. Bring your friends\, pick a song\, and feel the energy as the room gets behind every performance.\nAnd don’t forget to try our handcrafted pizzas and signature cocktails while you’re here!\n#FolkestoneKaraoke #KaraokeNight #SingOnStage #FolkestoneEvents #TheMusicWorkshop #FridayNightVibes #KaraokeFun #HandcraftedPizzas\n#SignatureCocktails #FolkestoneEats\n#FoodAndMusic
URL:https://musicworkshopfolkestone.co.uk/calendar/friday-karaoke-night-at-the-music-workshop-142/
ATTACH;FMTTYPE=image/png:https://musicworkshopfolkestone.co.uk/wp-content/uploads/2025/08/Best-Karaoke1-1.png
END:VEVENT
BEGIN:VEVENT
DTSTART;TZID=Europe/London:20270503T190000
DTEND;TZID=Europe/London:20270503T210000
DTSTAMP:20260422T085857
CREATED:20250813T103538Z
LAST-MODIFIED:20260421T181652Z
UID:10002981-1809370800-1809378000@musicworkshopfolkestone.co.uk
SUMMARY:Folkestone A Cappella Choir Rehearsals - Every Monday
DESCRIPTION:Folkestone A Cappella is a welcoming and friendly vocal group focused on creating beautiful harmonies together. We meet every Monday from 7-9pm at The Music Workshop\, Folkestone.
URL:https://musicworkshopfolkestone.co.uk/calendar/folkestone-a-cappella-choir-rehearsals-every-monday-224/
ATTACH;FMTTYPE=image/png:https://musicworkshopfolkestone.co.uk/wp-content/uploads/2025/08/Choir-pc-1.png
END:VEVENT
BEGIN:VEVENT
DTSTART;TZID=Europe/London:20270505T190000
DTEND;TZID=Europe/London:20270505T220000
DTSTAMP:20260422T085857
CREATED:20250814T110450Z
LAST-MODIFIED:20251018T140814Z
UID:10002982-1809543600-1809554400@musicworkshopfolkestone.co.uk
SUMMARY:The Guitar Workshop
DESCRIPTION:On Wednesday evenings\, The Music Workshop transforms into our guitar club. In a fun and supportive environment\, we’ll learn a setlist of songs tailored for all levels\, from beginners to advanced players. At the end of each term\, we come together for a group performance at The Music Workshop\, showcasing what we’ve learned to an audience. \nincluded each week:\n– 90-minute group session\, learning new songs and skills in a fun\, relaxed environment.\n– Expert group and individual tutoring.\n– A chance to jam and socialize after the session.\nClick below to find out more and join our group: \nThe Guitar Workshop
URL:https://musicworkshopfolkestone.co.uk/calendar/the-guitar-workshop-128/
ATTACH;FMTTYPE=image/png:https://musicworkshopfolkestone.co.uk/wp-content/uploads/2025/08/The-Guitar-Workshop-GG-2.png
END:VEVENT
BEGIN:VEVENT
DTSTART;TZID=Europe/London:20270506T180000
DTEND;TZID=Europe/London:20270506T230000
DTSTAMP:20260422T085857
CREATED:20251008T151500Z
LAST-MODIFIED:20251204T230938Z
UID:10003133-1809626400-1809644400@musicworkshopfolkestone.co.uk
SUMMARY:Thirsty Thursday Karaoke
DESCRIPTION:•Happy Hour all night\n•£4 pints\n•Happy Hour cocktails\n•Sing a karaoke song – get a free shot!
URL:https://musicworkshopfolkestone.co.uk/calendar/karaoke-cocktails-89/
ATTACH;FMTTYPE=image/png:https://musicworkshopfolkestone.co.uk/wp-content/uploads/2025/10/Best-Karaoke1-83.png
END:VEVENT
BEGIN:VEVENT
DTSTART;TZID=Europe/London:20270507T180000
DTEND;TZID=Europe/London:20270507T230000
DTSTAMP:20260422T085857
CREATED:20250816T111617Z
LAST-MODIFIED:20260118T213400Z
UID:10002983-1809712800-1809730800@musicworkshopfolkestone.co.uk
SUMMARY:Jimmy's Jam
DESCRIPTION:Jam Night hosted by Jimmy and the Riddles – first Friday of every month\, free entry!
URL:https://musicworkshopfolkestone.co.uk/calendar/jimmys-jam-28/
END:VEVENT
BEGIN:VEVENT
DTSTART;TZID=Europe/London:20270507T190000
DTEND;TZID=Europe/London:20270507T230000
DTSTAMP:20260422T085857
CREATED:20250819T114614Z
LAST-MODIFIED:20250909T170143Z
UID:10002984-1809716400-1809730800@musicworkshopfolkestone.co.uk
SUMMARY:Friday Karaoke Night at The Music Workshop
DESCRIPTION:It’s Friday night\, and the stage is yours. At The Music Workshop\, we’ve got the massive screen\, the stage lights\, and the sound ready for you to take the mic and own it.\nWhether you’re here to sing your go-to anthem\, try something new\, or just soak up the buzz\, Karaoke Night is always a good time. Bring your friends\, pick a song\, and feel the energy as the room gets behind every performance.\nAnd don’t forget to try our handcrafted pizzas and signature cocktails while you’re here!\n#FolkestoneKaraoke #KaraokeNight #SingOnStage #FolkestoneEvents #TheMusicWorkshop #FridayNightVibes #KaraokeFun #HandcraftedPizzas\n#SignatureCocktails #FolkestoneEats\n#FoodAndMusic
URL:https://musicworkshopfolkestone.co.uk/calendar/friday-karaoke-night-at-the-music-workshop-143/
ATTACH;FMTTYPE=image/png:https://musicworkshopfolkestone.co.uk/wp-content/uploads/2025/08/Best-Karaoke1-2.png
END:VEVENT
BEGIN:VEVENT
DTSTART;TZID=Europe/London:20270507T190000
DTEND;TZID=Europe/London:20270507T230000
DTSTAMP:20260422T085857
CREATED:20260416T174932Z
LAST-MODIFIED:20260421T183136Z
UID:10003349-1809716400-1809730800@musicworkshopfolkestone.co.uk
SUMMARY:MUSIC QUIZ: SMASHED HITS
DESCRIPTION:The Ultimate Millennial Music Quiz\n£5 per player – maximum of 6 players per team 7pm
URL:https://musicworkshopfolkestone.co.uk/calendar/music-quiz-smashed-hits-13/
END:VEVENT
BEGIN:VEVENT
DTSTART;TZID=Europe/London:20270510T190000
DTEND;TZID=Europe/London:20270510T210000
DTSTAMP:20260422T085857
CREATED:20250821T120126Z
LAST-MODIFIED:20260421T181652Z
UID:10002987-1809975600-1809982800@musicworkshopfolkestone.co.uk
SUMMARY:Folkestone A Cappella Choir Rehearsals - Every Monday
DESCRIPTION:Folkestone A Cappella is a welcoming and friendly vocal group focused on creating beautiful harmonies together. We meet every Monday from 7-9pm at The Music Workshop\, Folkestone.
URL:https://musicworkshopfolkestone.co.uk/calendar/folkestone-a-cappella-choir-rehearsals-every-monday-225/
ATTACH;FMTTYPE=image/png:https://musicworkshopfolkestone.co.uk/wp-content/uploads/2025/08/Choir-pc-2.png
END:VEVENT
BEGIN:VEVENT
DTSTART;TZID=Europe/London:20270512T190000
DTEND;TZID=Europe/London:20270512T220000
DTSTAMP:20260422T085857
CREATED:20250823T120228Z
LAST-MODIFIED:20251018T140814Z
UID:10002988-1810148400-1810159200@musicworkshopfolkestone.co.uk
SUMMARY:The Guitar Workshop
DESCRIPTION:On Wednesday evenings\, The Music Workshop transforms into our guitar club. In a fun and supportive environment\, we’ll learn a setlist of songs tailored for all levels\, from beginners to advanced players. At the end of each term\, we come together for a group performance at The Music Workshop\, showcasing what we’ve learned to an audience. \nincluded each week:\n– 90-minute group session\, learning new songs and skills in a fun\, relaxed environment.\n– Expert group and individual tutoring.\n– A chance to jam and socialize after the session.\nClick below to find out more and join our group: \nThe Guitar Workshop
URL:https://musicworkshopfolkestone.co.uk/calendar/the-guitar-workshop-129/
ATTACH;FMTTYPE=image/png:https://musicworkshopfolkestone.co.uk/wp-content/uploads/2025/08/The-Guitar-Workshop-GG-3.png
END:VEVENT
BEGIN:VEVENT
DTSTART;TZID=Europe/London:20270513T180000
DTEND;TZID=Europe/London:20270513T230000
DTSTAMP:20260422T085857
CREATED:20251008T151507Z
LAST-MODIFIED:20251204T230938Z
UID:10003134-1810231200-1810249200@musicworkshopfolkestone.co.uk
SUMMARY:Thirsty Thursday Karaoke
DESCRIPTION:•Happy Hour all night\n•£4 pints\n•Happy Hour cocktails\n•Sing a karaoke song – get a free shot!
URL:https://musicworkshopfolkestone.co.uk/calendar/karaoke-cocktails-90/
ATTACH;FMTTYPE=image/png:https://musicworkshopfolkestone.co.uk/wp-content/uploads/2025/10/Best-Karaoke1-84.png
END:VEVENT
BEGIN:VEVENT
DTSTART;TZID=Europe/London:20270514T190000
DTEND;TZID=Europe/London:20270514T230000
DTSTAMP:20260422T085857
CREATED:20250824T120247Z
LAST-MODIFIED:20250909T170143Z
UID:10002989-1810321200-1810335600@musicworkshopfolkestone.co.uk
SUMMARY:Friday Karaoke Night at The Music Workshop
DESCRIPTION:It’s Friday night\, and the stage is yours. At The Music Workshop\, we’ve got the massive screen\, the stage lights\, and the sound ready for you to take the mic and own it.\nWhether you’re here to sing your go-to anthem\, try something new\, or just soak up the buzz\, Karaoke Night is always a good time. Bring your friends\, pick a song\, and feel the energy as the room gets behind every performance.\nAnd don’t forget to try our handcrafted pizzas and signature cocktails while you’re here!\n#FolkestoneKaraoke #KaraokeNight #SingOnStage #FolkestoneEvents #TheMusicWorkshop #FridayNightVibes #KaraokeFun #HandcraftedPizzas\n#SignatureCocktails #FolkestoneEats\n#FoodAndMusic
URL:https://musicworkshopfolkestone.co.uk/calendar/friday-karaoke-night-at-the-music-workshop-144/
ATTACH;FMTTYPE=image/png:https://musicworkshopfolkestone.co.uk/wp-content/uploads/2025/08/Best-Karaoke1-3.png
END:VEVENT
BEGIN:VEVENT
DTSTART;TZID=Europe/London:20270517T190000
DTEND;TZID=Europe/London:20270517T210000
DTSTAMP:20260422T085857
CREATED:20250828T123206Z
LAST-MODIFIED:20260421T181652Z
UID:10002990-1810580400-1810587600@musicworkshopfolkestone.co.uk
SUMMARY:Folkestone A Cappella Choir Rehearsals - Every Monday
DESCRIPTION:Folkestone A Cappella is a welcoming and friendly vocal group focused on creating beautiful harmonies together. We meet every Monday from 7-9pm at The Music Workshop\, Folkestone.
URL:https://musicworkshopfolkestone.co.uk/calendar/folkestone-a-cappella-choir-rehearsals-every-monday-226/
ATTACH;FMTTYPE=image/png:https://musicworkshopfolkestone.co.uk/wp-content/uploads/2025/08/Choir-pc-3.png
END:VEVENT
BEGIN:VEVENT
DTSTART;TZID=Europe/London:20270519T190000
DTEND;TZID=Europe/London:20270519T220000
DTSTAMP:20260422T085857
CREATED:20250830T133124Z
LAST-MODIFIED:20251018T140814Z
UID:10002993-1810753200-1810764000@musicworkshopfolkestone.co.uk
SUMMARY:The Guitar Workshop
DESCRIPTION:On Wednesday evenings\, The Music Workshop transforms into our guitar club. In a fun and supportive environment\, we’ll learn a setlist of songs tailored for all levels\, from beginners to advanced players. At the end of each term\, we come together for a group performance at The Music Workshop\, showcasing what we’ve learned to an audience. \nincluded each week:\n– 90-minute group session\, learning new songs and skills in a fun\, relaxed environment.\n– Expert group and individual tutoring.\n– A chance to jam and socialize after the session.\nClick below to find out more and join our group: \nThe Guitar Workshop
URL:https://musicworkshopfolkestone.co.uk/calendar/the-guitar-workshop-130/
ATTACH;FMTTYPE=image/png:https://musicworkshopfolkestone.co.uk/wp-content/uploads/2025/08/The-Guitar-Workshop-GG-4.png
END:VEVENT
BEGIN:VEVENT
DTSTART;TZID=Europe/London:20270520T180000
DTEND;TZID=Europe/London:20270520T230000
DTSTAMP:20260422T085857
CREATED:20251008T151513Z
LAST-MODIFIED:20251204T230938Z
UID:10003135-1810836000-1810854000@musicworkshopfolkestone.co.uk
SUMMARY:Thirsty Thursday Karaoke
DESCRIPTION:•Happy Hour all night\n•£4 pints\n•Happy Hour cocktails\n•Sing a karaoke song – get a free shot!
URL:https://musicworkshopfolkestone.co.uk/calendar/karaoke-cocktails-91/
ATTACH;FMTTYPE=image/png:https://musicworkshopfolkestone.co.uk/wp-content/uploads/2025/10/Best-Karaoke1-85.png
END:VEVENT
BEGIN:VEVENT
DTSTART;TZID=Europe/London:20270521T190000
DTEND;TZID=Europe/London:20270521T230000
DTSTAMP:20260422T085857
CREATED:20250904T140251Z
LAST-MODIFIED:20250909T170143Z
UID:10002995-1810926000-1810940400@musicworkshopfolkestone.co.uk
SUMMARY:Friday Karaoke Night at The Music Workshop
DESCRIPTION:It’s Friday night\, and the stage is yours. At The Music Workshop\, we’ve got the massive screen\, the stage lights\, and the sound ready for you to take the mic and own it.\nWhether you’re here to sing your go-to anthem\, try something new\, or just soak up the buzz\, Karaoke Night is always a good time. Bring your friends\, pick a song\, and feel the energy as the room gets behind every performance.\nAnd don’t forget to try our handcrafted pizzas and signature cocktails while you’re here!\n#FolkestoneKaraoke #KaraokeNight #SingOnStage #FolkestoneEvents #TheMusicWorkshop #FridayNightVibes #KaraokeFun #HandcraftedPizzas\n#SignatureCocktails #FolkestoneEats\n#FoodAndMusic
URL:https://musicworkshopfolkestone.co.uk/calendar/friday-karaoke-night-at-the-music-workshop-145/
ATTACH;FMTTYPE=image/png:https://musicworkshopfolkestone.co.uk/wp-content/uploads/2025/09/Best-Karaoke1-1.png
END:VEVENT
BEGIN:VEVENT
DTSTART;TZID=Europe/London:20270521T190000
DTEND;TZID=Europe/London:20270521T230000
DTSTAMP:20260422T085857
CREATED:20250906T141104Z
LAST-MODIFIED:20260421T181652Z
UID:10002996-1810926000-1810940400@musicworkshopfolkestone.co.uk
SUMMARY:Musical Bingo hosted by AiMATE
DESCRIPTION:Join us for a lively night of Musical Bingo at The Music Workshop. Hosted by the brilliant AiMATE\, this isn’t your average bingo night – expect great tunes\, singing along\, plenty of laughs\, and some fun prizes up for grabs. \n🎟 £5 per ticket (includes bingo cards)🎉 Music\, prizes\, and a full-on Friday night atmosphere⚠️ Not a quiet event – get ready to sing\, cheer\, and enjoy yourself!
URL:https://musicworkshopfolkestone.co.uk/calendar/musical-bingo-hosted-by-aimate-26/
ATTACH;FMTTYPE=image/jpeg:https://musicworkshopfolkestone.co.uk/wp-content/uploads/2025/09/PHOTO-2026-01-07-21-37-15.jpg
END:VEVENT
BEGIN:VEVENT
DTSTART;TZID=Europe/London:20270524T190000
DTEND;TZID=Europe/London:20270524T210000
DTSTAMP:20260422T085857
CREATED:20250909T170143Z
LAST-MODIFIED:20260421T181652Z
UID:10002999-1811185200-1811192400@musicworkshopfolkestone.co.uk
SUMMARY:Folkestone A Cappella Choir Rehearsals - Every Monday
DESCRIPTION:Folkestone A Cappella is a welcoming and friendly vocal group focused on creating beautiful harmonies together. We meet every Monday from 7-9pm at The Music Workshop\, Folkestone.
URL:https://musicworkshopfolkestone.co.uk/calendar/folkestone-a-cappella-choir-rehearsals-every-monday-227/
ATTACH;FMTTYPE=image/png:https://musicworkshopfolkestone.co.uk/wp-content/uploads/2025/09/Choir-pc.png
END:VEVENT
BEGIN:VEVENT
DTSTART;TZID=Europe/London:20270526T190000
DTEND;TZID=Europe/London:20270526T220000
DTSTAMP:20260422T085857
CREATED:20250909T170149Z
LAST-MODIFIED:20251018T140814Z
UID:10003000-1811358000-1811368800@musicworkshopfolkestone.co.uk
SUMMARY:The Guitar Workshop
DESCRIPTION:On Wednesday evenings\, The Music Workshop transforms into our guitar club. In a fun and supportive environment\, we’ll learn a setlist of songs tailored for all levels\, from beginners to advanced players. At the end of each term\, we come together for a group performance at The Music Workshop\, showcasing what we’ve learned to an audience. \nincluded each week:\n– 90-minute group session\, learning new songs and skills in a fun\, relaxed environment.\n– Expert group and individual tutoring.\n– A chance to jam and socialize after the session.\nClick below to find out more and join our group: \nThe Guitar Workshop
URL:https://musicworkshopfolkestone.co.uk/calendar/the-guitar-workshop-131/
ATTACH;FMTTYPE=image/png:https://musicworkshopfolkestone.co.uk/wp-content/uploads/2025/09/The-Guitar-Workshop-GG.png
END:VEVENT
BEGIN:VEVENT
DTSTART;TZID=Europe/London:20270527T180000
DTEND;TZID=Europe/London:20270527T230000
DTSTAMP:20260422T085857
CREATED:20251008T151519Z
LAST-MODIFIED:20251204T230950Z
UID:10003136-1811440800-1811458800@musicworkshopfolkestone.co.uk
SUMMARY:Thirsty Thursday Karaoke
DESCRIPTION:•Happy Hour all night\n•£4 pints\n•Happy Hour cocktails\n•Sing a karaoke song – get a free shot!
URL:https://musicworkshopfolkestone.co.uk/calendar/karaoke-cocktails-92/
ATTACH;FMTTYPE=image/png:https://musicworkshopfolkestone.co.uk/wp-content/uploads/2025/10/Best-Karaoke1-86.png
END:VEVENT
BEGIN:VEVENT
DTSTART;TZID=Europe/London:20270530T160000
DTEND;TZID=Europe/London:20270530T180000
DTSTAMP:20260422T085857
CREATED:20250530T071637Z
LAST-MODIFIED:20260421T183136Z
UID:10002910-1811692800-1811700000@musicworkshopfolkestone.co.uk
SUMMARY:Lucy May Walker's Writer's Round
DESCRIPTION:Lucy May Walker’s monthly Writer’s Round is an afternoon of original music in the style of a Nashville writers round where 3 featured artists sit on the stage at the same time and take turns in playing their songs & telling the stories behind them. Discover your new favourite artist in an intimate\, cosy setting by the seaside.
URL:https://musicworkshopfolkestone.co.uk/calendar/lucy-may-walkers-writers-round-28/
END:VEVENT
END:VCALENDAR