BEGIN:VCALENDAR
VERSION:2.0
PRODID:-//The Music Workshop - ECPv6.8.3//NONSGML v1.0//EN
CALSCALE:GREGORIAN
METHOD:PUBLISH
X-WR-CALNAME:The Music Workshop
X-ORIGINAL-URL:https://musicworkshopfolkestone.co.uk
X-WR-CALDESC:Events for The Music Workshop
REFRESH-INTERVAL;VALUE=DURATION:PT1H
X-Robots-Tag:noindex
X-PUBLISHED-TTL:PT1H
BEGIN:VTIMEZONE
TZID:Europe/London
BEGIN:DAYLIGHT
TZOFFSETFROM:+0000
TZOFFSETTO:+0100
TZNAME:BST
DTSTART:20270328T010000
END:DAYLIGHT
BEGIN:STANDARD
TZOFFSETFROM:+0100
TZOFFSETTO:+0000
TZNAME:GMT
DTSTART:20271031T010000
END:STANDARD
END:VTIMEZONE
BEGIN:VEVENT
DTSTART;TZID=Europe/London:20270226T190000
DTEND;TZID=Europe/London:20270226T230000
DTSTAMP:20260422T034720
CREATED:20250530T140216Z
LAST-MODIFIED:20250909T170142Z
UID:10002918-1803668400-1803682800@musicworkshopfolkestone.co.uk
SUMMARY:Friday Karaoke Night at The Music Workshop
DESCRIPTION:It’s Friday night\, and the stage is yours. At The Music Workshop\, we’ve got the massive screen\, the stage lights\, and the sound ready for you to take the mic and own it.\nWhether you’re here to sing your go-to anthem\, try something new\, or just soak up the buzz\, Karaoke Night is always a good time. Bring your friends\, pick a song\, and feel the energy as the room gets behind every performance.\nAnd don’t forget to try our handcrafted pizzas and signature cocktails while you’re here!\n#FolkestoneKaraoke #KaraokeNight #SingOnStage #FolkestoneEvents #TheMusicWorkshop #FridayNightVibes #KaraokeFun #HandcraftedPizzas\n#SignatureCocktails #FolkestoneEats\n#FoodAndMusic
URL:https://musicworkshopfolkestone.co.uk/calendar/friday-karaoke-night-at-the-music-workshop-129/
ATTACH;FMTTYPE=image/png:https://musicworkshopfolkestone.co.uk/wp-content/uploads/2025/05/Best-Karaoke1-5.png
END:VEVENT
BEGIN:VEVENT
DTSTART;TZID=Europe/London:20270228T160000
DTEND;TZID=Europe/London:20270228T180000
DTSTAMP:20260422T034720
CREATED:20250228T081715Z
LAST-MODIFIED:20260421T183136Z
UID:10002765-1803830400-1803837600@musicworkshopfolkestone.co.uk
SUMMARY:Lucy May Walker's Writer's Round
DESCRIPTION:Lucy May Walker’s monthly Writer’s Round is an afternoon of original music in the style of a Nashville writers round where 3 featured artists sit on the stage at the same time and take turns in playing their songs & telling the stories behind them. Discover your new favourite artist in an intimate\, cosy setting by the seaside.
URL:https://musicworkshopfolkestone.co.uk/calendar/lucy-may-walkers-writers-round-25/
END:VEVENT
BEGIN:VEVENT
DTSTART;TZID=Europe/London:20270301T190000
DTEND;TZID=Europe/London:20270301T210000
DTSTAMP:20260422T034720
CREATED:20250531T140325Z
LAST-MODIFIED:20260421T181651Z
UID:10002919-1803927600-1803934800@musicworkshopfolkestone.co.uk
SUMMARY:Folkestone A Cappella Choir Rehearsals - Every Monday
DESCRIPTION:Folkestone A Cappella is a welcoming and friendly vocal group focused on creating beautiful harmonies together. We meet every Monday from 7-9pm at The Music Workshop\, Folkestone.
URL:https://musicworkshopfolkestone.co.uk/calendar/folkestone-a-cappella-choir-rehearsals-every-monday-213/
ATTACH;FMTTYPE=image/png:https://musicworkshopfolkestone.co.uk/wp-content/uploads/2025/05/Choir-pc-7.png
END:VEVENT
BEGIN:VEVENT
DTSTART;TZID=Europe/London:20270301T190000
DTEND;TZID=Europe/London:20270301T210000
DTSTAMP:20260422T034720
CREATED:20251028T163423Z
LAST-MODIFIED:20251125T212238Z
UID:10003221-1803927600-1803934800@musicworkshopfolkestone.co.uk
SUMMARY:The Guitar Workshop - Beginners
DESCRIPTION:On Wednesday evenings\, The Music Workshop transforms into our guitar club. In a fun and supportive environment\, we’ll learn a setlist of songs tailored for all levels\, from beginners to advanced players. At the end of each term\, we come together for a group performance at The Music Workshop\, showcasing what we’ve learned to an audience. \nincluded each week:\n– 90-minute group session\, learning new songs and skills in a fun\, relaxed environment.\n– Expert group and individual tutoring.\n– A chance to jam and socialize after the session.
URL:https://musicworkshopfolkestone.co.uk/calendar/the-guitar-workshop-beginners-88/
ATTACH;FMTTYPE=image/png:https://musicworkshopfolkestone.co.uk/wp-content/uploads/2025/10/The-Guitar-Workshop-GG-80.png
END:VEVENT
BEGIN:VEVENT
DTSTART;TZID=Europe/London:20270303T190000
DTEND;TZID=Europe/London:20270303T220000
DTSTAMP:20260422T034720
CREATED:20250604T143117Z
LAST-MODIFIED:20251125T212251Z
UID:10002920-1804100400-1804111200@musicworkshopfolkestone.co.uk
SUMMARY:The Guitar Workshop
DESCRIPTION:On Wednesday evenings\, The Music Workshop transforms into our guitar club. In a fun and supportive environment\, we’ll learn a setlist of songs tailored for all levels\, from beginners to advanced players. At the end of each term\, we come together for a group performance at The Music Workshop\, showcasing what we’ve learned to an audience. \nincluded each week:\n– 90-minute group session\, learning new songs and skills in a fun\, relaxed environment.\n– Expert group and individual tutoring.\n– A chance to jam and socialize after the session.\nClick below to find out more and join our group: \nThe Guitar Workshop
URL:https://musicworkshopfolkestone.co.uk/calendar/the-guitar-workshop-118/
ATTACH;FMTTYPE=image/png:https://musicworkshopfolkestone.co.uk/wp-content/uploads/2025/06/The-Guitar-Workshop-GG.png
END:VEVENT
BEGIN:VEVENT
DTSTART;TZID=Europe/London:20270304T180000
DTEND;TZID=Europe/London:20270304T230000
DTSTAMP:20260422T034720
CREATED:20251008T151401Z
LAST-MODIFIED:20251204T230915Z
UID:10003124-1804183200-1804201200@musicworkshopfolkestone.co.uk
SUMMARY:Thirsty Thursday Karaoke
DESCRIPTION:•Happy Hour all night\n•£4 pints\n•Happy Hour cocktails\n•Sing a karaoke song – get a free shot!
URL:https://musicworkshopfolkestone.co.uk/calendar/karaoke-cocktails-80/
ATTACH;FMTTYPE=image/png:https://musicworkshopfolkestone.co.uk/wp-content/uploads/2025/10/Best-Karaoke1-74.png
END:VEVENT
BEGIN:VEVENT
DTSTART;TZID=Europe/London:20270305T180000
DTEND;TZID=Europe/London:20270305T230000
DTSTAMP:20260422T034720
CREATED:20250607T144821Z
LAST-MODIFIED:20260118T213349Z
UID:10002921-1804269600-1804287600@musicworkshopfolkestone.co.uk
SUMMARY:Jimmy's Jam
DESCRIPTION:Jam Night hosted by Jimmy and the Riddles – first Friday of every month\, free entry!
URL:https://musicworkshopfolkestone.co.uk/calendar/jimmys-jam-26/
END:VEVENT
BEGIN:VEVENT
DTSTART;TZID=Europe/London:20270305T190000
DTEND;TZID=Europe/London:20270305T230000
DTSTAMP:20260422T034720
CREATED:20250609T150208Z
LAST-MODIFIED:20250909T170142Z
UID:10002923-1804273200-1804287600@musicworkshopfolkestone.co.uk
SUMMARY:Friday Karaoke Night at The Music Workshop
DESCRIPTION:It’s Friday night\, and the stage is yours. At The Music Workshop\, we’ve got the massive screen\, the stage lights\, and the sound ready for you to take the mic and own it.\nWhether you’re here to sing your go-to anthem\, try something new\, or just soak up the buzz\, Karaoke Night is always a good time. Bring your friends\, pick a song\, and feel the energy as the room gets behind every performance.\nAnd don’t forget to try our handcrafted pizzas and signature cocktails while you’re here!\n#FolkestoneKaraoke #KaraokeNight #SingOnStage #FolkestoneEvents #TheMusicWorkshop #FridayNightVibes #KaraokeFun #HandcraftedPizzas\n#SignatureCocktails #FolkestoneEats\n#FoodAndMusic
URL:https://musicworkshopfolkestone.co.uk/calendar/friday-karaoke-night-at-the-music-workshop-134/
ATTACH;FMTTYPE=image/png:https://musicworkshopfolkestone.co.uk/wp-content/uploads/2025/06/Best-Karaoke1.png
END:VEVENT
BEGIN:VEVENT
DTSTART;TZID=Europe/London:20270305T190000
DTEND;TZID=Europe/London:20270305T230000
DTSTAMP:20260422T034720
CREATED:20260416T174932Z
LAST-MODIFIED:20260421T183136Z
UID:10003347-1804273200-1804287600@musicworkshopfolkestone.co.uk
SUMMARY:MUSIC QUIZ: SMASHED HITS
DESCRIPTION:The Ultimate Millennial Music Quiz\n£5 per player – maximum of 6 players per team 7pm
URL:https://musicworkshopfolkestone.co.uk/calendar/music-quiz-smashed-hits-11/
END:VEVENT
BEGIN:VEVENT
DTSTART;TZID=Europe/London:20270308T190000
DTEND;TZID=Europe/London:20270308T210000
DTSTAMP:20260422T034720
CREATED:20250611T152801Z
LAST-MODIFIED:20260421T181651Z
UID:10002924-1804532400-1804539600@musicworkshopfolkestone.co.uk
SUMMARY:Folkestone A Cappella Choir Rehearsals - Every Monday
DESCRIPTION:Folkestone A Cappella is a welcoming and friendly vocal group focused on creating beautiful harmonies together. We meet every Monday from 7-9pm at The Music Workshop\, Folkestone.
URL:https://musicworkshopfolkestone.co.uk/calendar/folkestone-a-cappella-choir-rehearsals-every-monday-215/
ATTACH;FMTTYPE=image/png:https://musicworkshopfolkestone.co.uk/wp-content/uploads/2025/06/Choir-pc.png
END:VEVENT
BEGIN:VEVENT
DTSTART;TZID=Europe/London:20270310T190000
DTEND;TZID=Europe/London:20270310T220000
DTSTAMP:20260422T034720
CREATED:20250612T153315Z
LAST-MODIFIED:20251018T140813Z
UID:10002925-1804705200-1804716000@musicworkshopfolkestone.co.uk
SUMMARY:The Guitar Workshop
DESCRIPTION:On Wednesday evenings\, The Music Workshop transforms into our guitar club. In a fun and supportive environment\, we’ll learn a setlist of songs tailored for all levels\, from beginners to advanced players. At the end of each term\, we come together for a group performance at The Music Workshop\, showcasing what we’ve learned to an audience. \nincluded each week:\n– 90-minute group session\, learning new songs and skills in a fun\, relaxed environment.\n– Expert group and individual tutoring.\n– A chance to jam and socialize after the session.\nClick below to find out more and join our group: \nThe Guitar Workshop
URL:https://musicworkshopfolkestone.co.uk/calendar/the-guitar-workshop-119/
ATTACH;FMTTYPE=image/png:https://musicworkshopfolkestone.co.uk/wp-content/uploads/2025/06/The-Guitar-Workshop-GG-1.png
END:VEVENT
BEGIN:VEVENT
DTSTART;TZID=Europe/London:20270311T180000
DTEND;TZID=Europe/London:20270311T230000
DTSTAMP:20260422T034720
CREATED:20251008T151408Z
LAST-MODIFIED:20251204T230915Z
UID:10003125-1804788000-1804806000@musicworkshopfolkestone.co.uk
SUMMARY:Thirsty Thursday Karaoke
DESCRIPTION:•Happy Hour all night\n•£4 pints\n•Happy Hour cocktails\n•Sing a karaoke song – get a free shot!
URL:https://musicworkshopfolkestone.co.uk/calendar/karaoke-cocktails-81/
ATTACH;FMTTYPE=image/png:https://musicworkshopfolkestone.co.uk/wp-content/uploads/2025/10/Best-Karaoke1-75.png
END:VEVENT
BEGIN:VEVENT
DTSTART;TZID=Europe/London:20270312T190000
DTEND;TZID=Europe/London:20270312T230000
DTSTAMP:20260422T034720
CREATED:20250614T154651Z
LAST-MODIFIED:20250909T170142Z
UID:10002926-1804878000-1804892400@musicworkshopfolkestone.co.uk
SUMMARY:Friday Karaoke Night at The Music Workshop
DESCRIPTION:It’s Friday night\, and the stage is yours. At The Music Workshop\, we’ve got the massive screen\, the stage lights\, and the sound ready for you to take the mic and own it.\nWhether you’re here to sing your go-to anthem\, try something new\, or just soak up the buzz\, Karaoke Night is always a good time. Bring your friends\, pick a song\, and feel the energy as the room gets behind every performance.\nAnd don’t forget to try our handcrafted pizzas and signature cocktails while you’re here!\n#FolkestoneKaraoke #KaraokeNight #SingOnStage #FolkestoneEvents #TheMusicWorkshop #FridayNightVibes #KaraokeFun #HandcraftedPizzas\n#SignatureCocktails #FolkestoneEats\n#FoodAndMusic
URL:https://musicworkshopfolkestone.co.uk/calendar/friday-karaoke-night-at-the-music-workshop-135/
ATTACH;FMTTYPE=image/png:https://musicworkshopfolkestone.co.uk/wp-content/uploads/2025/06/Best-Karaoke1-1.png
END:VEVENT
BEGIN:VEVENT
DTSTART;TZID=Europe/London:20270315T190000
DTEND;TZID=Europe/London:20270315T210000
DTSTAMP:20260422T034720
CREATED:20250618T161717Z
LAST-MODIFIED:20260421T181651Z
UID:10002927-1805137200-1805144400@musicworkshopfolkestone.co.uk
SUMMARY:Folkestone A Cappella Choir Rehearsals - Every Monday
DESCRIPTION:Folkestone A Cappella is a welcoming and friendly vocal group focused on creating beautiful harmonies together. We meet every Monday from 7-9pm at The Music Workshop\, Folkestone.
URL:https://musicworkshopfolkestone.co.uk/calendar/folkestone-a-cappella-choir-rehearsals-every-monday-217/
ATTACH;FMTTYPE=image/png:https://musicworkshopfolkestone.co.uk/wp-content/uploads/2025/06/Choir-pc-1.png
END:VEVENT
BEGIN:VEVENT
DTSTART;TZID=Europe/London:20270317T190000
DTEND;TZID=Europe/London:20270317T220000
DTSTAMP:20260422T034720
CREATED:20250630T082413Z
LAST-MODIFIED:20251018T140813Z
UID:10002934-1805310000-1805320800@musicworkshopfolkestone.co.uk
SUMMARY:The Guitar Workshop
DESCRIPTION:On Wednesday evenings\, The Music Workshop transforms into our guitar club. In a fun and supportive environment\, we’ll learn a setlist of songs tailored for all levels\, from beginners to advanced players. At the end of each term\, we come together for a group performance at The Music Workshop\, showcasing what we’ve learned to an audience. \nincluded each week:\n– 90-minute group session\, learning new songs and skills in a fun\, relaxed environment.\n– Expert group and individual tutoring.\n– A chance to jam and socialize after the session.\nClick below to find out more and join our group: \nThe Guitar Workshop
URL:https://musicworkshopfolkestone.co.uk/calendar/the-guitar-workshop-120/
ATTACH;FMTTYPE=image/png:https://musicworkshopfolkestone.co.uk/wp-content/uploads/2025/06/The-Guitar-Workshop-GG-2.png
END:VEVENT
BEGIN:VEVENT
DTSTART;TZID=Europe/London:20270318T180000
DTEND;TZID=Europe/London:20270318T230000
DTSTAMP:20260422T034720
CREATED:20251008T151414Z
LAST-MODIFIED:20251204T230915Z
UID:10003126-1805392800-1805410800@musicworkshopfolkestone.co.uk
SUMMARY:Thirsty Thursday Karaoke
DESCRIPTION:•Happy Hour all night\n•£4 pints\n•Happy Hour cocktails\n•Sing a karaoke song – get a free shot!
URL:https://musicworkshopfolkestone.co.uk/calendar/karaoke-cocktails-82/
ATTACH;FMTTYPE=image/png:https://musicworkshopfolkestone.co.uk/wp-content/uploads/2025/10/Best-Karaoke1-76.png
END:VEVENT
BEGIN:VEVENT
DTSTART;TZID=Europe/London:20270319T190000
DTEND;TZID=Europe/London:20270319T230000
DTSTAMP:20260422T034720
CREATED:20250630T082424Z
LAST-MODIFIED:20250909T170142Z
UID:10002935-1805482800-1805497200@musicworkshopfolkestone.co.uk
SUMMARY:Friday Karaoke Night at The Music Workshop
DESCRIPTION:It’s Friday night\, and the stage is yours. At The Music Workshop\, we’ve got the massive screen\, the stage lights\, and the sound ready for you to take the mic and own it.\nWhether you’re here to sing your go-to anthem\, try something new\, or just soak up the buzz\, Karaoke Night is always a good time. Bring your friends\, pick a song\, and feel the energy as the room gets behind every performance.\nAnd don’t forget to try our handcrafted pizzas and signature cocktails while you’re here!\n#FolkestoneKaraoke #KaraokeNight #SingOnStage #FolkestoneEvents #TheMusicWorkshop #FridayNightVibes #KaraokeFun #HandcraftedPizzas\n#SignatureCocktails #FolkestoneEats\n#FoodAndMusic
URL:https://musicworkshopfolkestone.co.uk/calendar/friday-karaoke-night-at-the-music-workshop-136/
ATTACH;FMTTYPE=image/png:https://musicworkshopfolkestone.co.uk/wp-content/uploads/2025/06/Best-Karaoke1-2.png
END:VEVENT
BEGIN:VEVENT
DTSTART;TZID=Europe/London:20270319T190000
DTEND;TZID=Europe/London:20270319T230000
DTSTAMP:20260422T034720
CREATED:20250630T082433Z
LAST-MODIFIED:20260421T181651Z
UID:10002936-1805482800-1805497200@musicworkshopfolkestone.co.uk
SUMMARY:Musical Bingo hosted by AiMATE
DESCRIPTION:Join us for a lively night of Musical Bingo at The Music Workshop. Hosted by the brilliant AiMATE\, this isn’t your average bingo night – expect great tunes\, singing along\, plenty of laughs\, and some fun prizes up for grabs. \n🎟 £5 per ticket (includes bingo cards)🎉 Music\, prizes\, and a full-on Friday night atmosphere⚠️ Not a quiet event – get ready to sing\, cheer\, and enjoy yourself!
URL:https://musicworkshopfolkestone.co.uk/calendar/musical-bingo-hosted-by-aimate-24/
ATTACH;FMTTYPE=image/jpeg:https://musicworkshopfolkestone.co.uk/wp-content/uploads/2025/06/PHOTO-2026-01-07-21-37-15.jpg
END:VEVENT
BEGIN:VEVENT
DTSTART;TZID=Europe/London:20270322T190000
DTEND;TZID=Europe/London:20270322T210000
DTSTAMP:20260422T034720
CREATED:20250630T082433Z
LAST-MODIFIED:20260421T181651Z
UID:10002937-1805742000-1805749200@musicworkshopfolkestone.co.uk
SUMMARY:Folkestone A Cappella Choir Rehearsals - Every Monday
DESCRIPTION:Folkestone A Cappella is a welcoming and friendly vocal group focused on creating beautiful harmonies together. We meet every Monday from 7-9pm at The Music Workshop\, Folkestone.
URL:https://musicworkshopfolkestone.co.uk/calendar/folkestone-a-cappella-choir-rehearsals-every-monday-218/
ATTACH;FMTTYPE=image/png:https://musicworkshopfolkestone.co.uk/wp-content/uploads/2025/06/Choir-pc-2.png
END:VEVENT
BEGIN:VEVENT
DTSTART;TZID=Europe/London:20270324T190000
DTEND;TZID=Europe/London:20270324T220000
DTSTAMP:20260422T034720
CREATED:20250630T084006Z
LAST-MODIFIED:20251018T140813Z
UID:10002938-1805914800-1805925600@musicworkshopfolkestone.co.uk
SUMMARY:The Guitar Workshop
DESCRIPTION:On Wednesday evenings\, The Music Workshop transforms into our guitar club. In a fun and supportive environment\, we’ll learn a setlist of songs tailored for all levels\, from beginners to advanced players. At the end of each term\, we come together for a group performance at The Music Workshop\, showcasing what we’ve learned to an audience. \nincluded each week:\n– 90-minute group session\, learning new songs and skills in a fun\, relaxed environment.\n– Expert group and individual tutoring.\n– A chance to jam and socialize after the session.\nClick below to find out more and join our group: \nThe Guitar Workshop
URL:https://musicworkshopfolkestone.co.uk/calendar/the-guitar-workshop-121/
ATTACH;FMTTYPE=image/png:https://musicworkshopfolkestone.co.uk/wp-content/uploads/2025/06/The-Guitar-Workshop-GG-3.png
END:VEVENT
BEGIN:VEVENT
DTSTART;TZID=Europe/London:20270325T180000
DTEND;TZID=Europe/London:20270325T230000
DTSTAMP:20260422T034720
CREATED:20251008T151421Z
LAST-MODIFIED:20251204T230927Z
UID:10003127-1805997600-1806015600@musicworkshopfolkestone.co.uk
SUMMARY:Thirsty Thursday Karaoke
DESCRIPTION:•Happy Hour all night\n•£4 pints\n•Happy Hour cocktails\n•Sing a karaoke song – get a free shot!
URL:https://musicworkshopfolkestone.co.uk/calendar/karaoke-cocktails-83/
ATTACH;FMTTYPE=image/png:https://musicworkshopfolkestone.co.uk/wp-content/uploads/2025/10/Best-Karaoke1-77.png
END:VEVENT
BEGIN:VEVENT
DTSTART;TZID=Europe/London:20270326T190000
DTEND;TZID=Europe/London:20270326T230000
DTSTAMP:20260422T034720
CREATED:20250701T085322Z
LAST-MODIFIED:20250909T170142Z
UID:10002944-1806087600-1806102000@musicworkshopfolkestone.co.uk
SUMMARY:Friday Karaoke Night at The Music Workshop
DESCRIPTION:It’s Friday night\, and the stage is yours. At The Music Workshop\, we’ve got the massive screen\, the stage lights\, and the sound ready for you to take the mic and own it.\nWhether you’re here to sing your go-to anthem\, try something new\, or just soak up the buzz\, Karaoke Night is always a good time. Bring your friends\, pick a song\, and feel the energy as the room gets behind every performance.\nAnd don’t forget to try our handcrafted pizzas and signature cocktails while you’re here!\n#FolkestoneKaraoke #KaraokeNight #SingOnStage #FolkestoneEvents #TheMusicWorkshop #FridayNightVibes #KaraokeFun #HandcraftedPizzas\n#SignatureCocktails #FolkestoneEats\n#FoodAndMusic
URL:https://musicworkshopfolkestone.co.uk/calendar/friday-karaoke-night-at-the-music-workshop-137/
ATTACH;FMTTYPE=image/png:https://musicworkshopfolkestone.co.uk/wp-content/uploads/2025/07/Best-Karaoke1.png
END:VEVENT
BEGIN:VEVENT
DTSTART;TZID=Europe/London:20270328T160000
DTEND;TZID=Europe/London:20270328T180000
DTSTAMP:20260422T034720
CREATED:20250328T150525Z
LAST-MODIFIED:20260421T183136Z
UID:10002786-1806249600-1806256800@musicworkshopfolkestone.co.uk
SUMMARY:Lucy May Walker's Writer's Round
DESCRIPTION:Lucy May Walker’s monthly Writer’s Round is an afternoon of original music in the style of a Nashville writers round where 3 featured artists sit on the stage at the same time and take turns in playing their songs & telling the stories behind them. Discover your new favourite artist in an intimate\, cosy setting by the seaside.
URL:https://musicworkshopfolkestone.co.uk/calendar/lucy-may-walkers-writers-round-26/
END:VEVENT
BEGIN:VEVENT
DTSTART;TZID=Europe/London:20270329T190000
DTEND;TZID=Europe/London:20270329T210000
DTSTAMP:20260422T034720
CREATED:20250703T090144Z
LAST-MODIFIED:20260421T181651Z
UID:10002945-1806346800-1806354000@musicworkshopfolkestone.co.uk
SUMMARY:Folkestone A Cappella Choir Rehearsals - Every Monday
DESCRIPTION:Folkestone A Cappella is a welcoming and friendly vocal group focused on creating beautiful harmonies together. We meet every Monday from 7-9pm at The Music Workshop\, Folkestone.
URL:https://musicworkshopfolkestone.co.uk/calendar/folkestone-a-cappella-choir-rehearsals-every-monday-219/
ATTACH;FMTTYPE=image/png:https://musicworkshopfolkestone.co.uk/wp-content/uploads/2025/07/Choir-pc.png
END:VEVENT
BEGIN:VEVENT
DTSTART;TZID=Europe/London:20270331T190000
DTEND;TZID=Europe/London:20270331T220000
DTSTAMP:20260422T034720
CREATED:20250705T091909Z
LAST-MODIFIED:20251018T140813Z
UID:10002946-1806519600-1806530400@musicworkshopfolkestone.co.uk
SUMMARY:The Guitar Workshop
DESCRIPTION:On Wednesday evenings\, The Music Workshop transforms into our guitar club. In a fun and supportive environment\, we’ll learn a setlist of songs tailored for all levels\, from beginners to advanced players. At the end of each term\, we come together for a group performance at The Music Workshop\, showcasing what we’ve learned to an audience. \nincluded each week:\n– 90-minute group session\, learning new songs and skills in a fun\, relaxed environment.\n– Expert group and individual tutoring.\n– A chance to jam and socialize after the session.\nClick below to find out more and join our group: \nThe Guitar Workshop
URL:https://musicworkshopfolkestone.co.uk/calendar/the-guitar-workshop-122/
ATTACH;FMTTYPE=image/png:https://musicworkshopfolkestone.co.uk/wp-content/uploads/2025/07/The-Guitar-Workshop-GG.png
END:VEVENT
BEGIN:VEVENT
DTSTART;TZID=Europe/London:20270401T180000
DTEND;TZID=Europe/London:20270401T230000
DTSTAMP:20260422T034720
CREATED:20251008T151427Z
LAST-MODIFIED:20251204T230927Z
UID:10003128-1806602400-1806620400@musicworkshopfolkestone.co.uk
SUMMARY:Thirsty Thursday Karaoke
DESCRIPTION:•Happy Hour all night\n•£4 pints\n•Happy Hour cocktails\n•Sing a karaoke song – get a free shot!
URL:https://musicworkshopfolkestone.co.uk/calendar/karaoke-cocktails-84/
ATTACH;FMTTYPE=image/png:https://musicworkshopfolkestone.co.uk/wp-content/uploads/2025/10/Best-Karaoke1-78.png
END:VEVENT
BEGIN:VEVENT
DTSTART;TZID=Europe/London:20270402T180000
DTEND;TZID=Europe/London:20270402T230000
DTSTAMP:20260422T034720
CREATED:20250712T094820Z
LAST-MODIFIED:20260118T213400Z
UID:10002948-1806688800-1806706800@musicworkshopfolkestone.co.uk
SUMMARY:Jimmy's Jam
DESCRIPTION:Jam Night hosted by Jimmy and the Riddles – first Friday of every month\, free entry!
URL:https://musicworkshopfolkestone.co.uk/calendar/jimmys-jam-27/
END:VEVENT
BEGIN:VEVENT
DTSTART;TZID=Europe/London:20270402T190000
DTEND;TZID=Europe/London:20270402T230000
DTSTAMP:20260422T034720
CREATED:20250708T093515Z
LAST-MODIFIED:20250909T170142Z
UID:10002947-1806692400-1806706800@musicworkshopfolkestone.co.uk
SUMMARY:Friday Karaoke Night at The Music Workshop
DESCRIPTION:It’s Friday night\, and the stage is yours. At The Music Workshop\, we’ve got the massive screen\, the stage lights\, and the sound ready for you to take the mic and own it.\nWhether you’re here to sing your go-to anthem\, try something new\, or just soak up the buzz\, Karaoke Night is always a good time. Bring your friends\, pick a song\, and feel the energy as the room gets behind every performance.\nAnd don’t forget to try our handcrafted pizzas and signature cocktails while you’re here!\n#FolkestoneKaraoke #KaraokeNight #SingOnStage #FolkestoneEvents #TheMusicWorkshop #FridayNightVibes #KaraokeFun #HandcraftedPizzas\n#SignatureCocktails #FolkestoneEats\n#FoodAndMusic
URL:https://musicworkshopfolkestone.co.uk/calendar/friday-karaoke-night-at-the-music-workshop-138/
ATTACH;FMTTYPE=image/png:https://musicworkshopfolkestone.co.uk/wp-content/uploads/2025/07/Best-Karaoke1-1.png
END:VEVENT
BEGIN:VEVENT
DTSTART;TZID=Europe/London:20270402T190000
DTEND;TZID=Europe/London:20270402T230000
DTSTAMP:20260422T034720
CREATED:20260416T174932Z
LAST-MODIFIED:20260421T183136Z
UID:10003348-1806692400-1806706800@musicworkshopfolkestone.co.uk
SUMMARY:MUSIC QUIZ: SMASHED HITS
DESCRIPTION:The Ultimate Millennial Music Quiz\n£5 per player – maximum of 6 players per team 7pm
URL:https://musicworkshopfolkestone.co.uk/calendar/music-quiz-smashed-hits-12/
END:VEVENT
BEGIN:VEVENT
DTSTART;TZID=Europe/London:20270405T190000
DTEND;TZID=Europe/London:20270405T210000
DTSTAMP:20260422T034720
CREATED:20250717T100825Z
LAST-MODIFIED:20260421T181651Z
UID:10002951-1806951600-1806958800@musicworkshopfolkestone.co.uk
SUMMARY:Folkestone A Cappella Choir Rehearsals - Every Monday
DESCRIPTION:Folkestone A Cappella is a welcoming and friendly vocal group focused on creating beautiful harmonies together. We meet every Monday from 7-9pm at The Music Workshop\, Folkestone.
URL:https://musicworkshopfolkestone.co.uk/calendar/folkestone-a-cappella-choir-rehearsals-every-monday-220/
ATTACH;FMTTYPE=image/png:https://musicworkshopfolkestone.co.uk/wp-content/uploads/2025/07/Choir-pc-1.png
END:VEVENT
END:VCALENDAR