BEGIN:VCALENDAR
VERSION:2.0
PRODID:-//The Music Workshop - ECPv6.8.3//NONSGML v1.0//EN
CALSCALE:GREGORIAN
METHOD:PUBLISH
X-ORIGINAL-URL:https://musicworkshopfolkestone.co.uk
X-WR-CALDESC:Events for The Music Workshop
REFRESH-INTERVAL;VALUE=DURATION:PT1H
X-Robots-Tag:noindex
X-PUBLISHED-TTL:PT1H
BEGIN:VTIMEZONE
TZID:Europe/London
BEGIN:DAYLIGHT
TZOFFSETFROM:+0000
TZOFFSETTO:+0100
TZNAME:BST
DTSTART:20260329T010000
END:DAYLIGHT
BEGIN:STANDARD
TZOFFSETFROM:+0100
TZOFFSETTO:+0000
TZNAME:GMT
DTSTART:20261025T010000
END:STANDARD
END:VTIMEZONE
BEGIN:VEVENT
DTSTART;TZID=Europe/London:20261106T180000
DTEND;TZID=Europe/London:20261106T230000
DTSTAMP:20260421T223048
CREATED:20250422T083714Z
LAST-MODIFIED:20260118T213324Z
UID:10002856-1793988000-1794006000@musicworkshopfolkestone.co.uk
SUMMARY:Jimmy's Jam
DESCRIPTION:Jam Night hosted by Jimmy and the Riddles – first Friday of every month\, free entry!
URL:https://musicworkshopfolkestone.co.uk/calendar/jimmys-jam-22/
END:VEVENT
BEGIN:VEVENT
DTSTART;TZID=Europe/London:20261106T190000
DTEND;TZID=Europe/London:20261106T230000
DTSTAMP:20260421T223048
CREATED:20260416T174932Z
LAST-MODIFIED:20260421T183135Z
UID:10003343-1793991600-1794006000@musicworkshopfolkestone.co.uk
SUMMARY:MUSIC QUIZ: SMASHED HITS
DESCRIPTION:The Ultimate Millennial Music Quiz\n£5 per player – maximum of 6 players per team 7pm
URL:https://musicworkshopfolkestone.co.uk/calendar/music-quiz-smashed-hits-7/
END:VEVENT
BEGIN:VEVENT
DTSTART;TZID=Europe/London:20261109T190000
DTEND;TZID=Europe/London:20261109T210000
DTSTAMP:20260421T223048
CREATED:20250422T083722Z
LAST-MODIFIED:20260421T181650Z
UID:10002858-1794250800-1794258000@musicworkshopfolkestone.co.uk
SUMMARY:Folkestone A Cappella Choir Rehearsals - Every Monday
DESCRIPTION:Folkestone A Cappella is a welcoming and friendly vocal group focused on creating beautiful harmonies together. We meet every Monday from 7-9pm at The Music Workshop\, Folkestone.
URL:https://musicworkshopfolkestone.co.uk/calendar/folkestone-a-cappella-choir-rehearsals-every-monday-191/
ATTACH;FMTTYPE=image/png:https://musicworkshopfolkestone.co.uk/wp-content/uploads/2025/04/Choir-pc-8.png
END:VEVENT
BEGIN:VEVENT
DTSTART;TZID=Europe/London:20261109T190000
DTEND;TZID=Europe/London:20261109T210000
DTSTAMP:20260421T223048
CREATED:20251023T152623Z
LAST-MODIFIED:20251125T212109Z
UID:10003199-1794250800-1794258000@musicworkshopfolkestone.co.uk
SUMMARY:The Guitar Workshop - Beginners
DESCRIPTION:On Wednesday evenings\, The Music Workshop transforms into our guitar club. In a fun and supportive environment\, we’ll learn a setlist of songs tailored for all levels\, from beginners to advanced players. At the end of each term\, we come together for a group performance at The Music Workshop\, showcasing what we’ve learned to an audience. \nincluded each week:\n– 90-minute group session\, learning new songs and skills in a fun\, relaxed environment.\n– Expert group and individual tutoring.\n– A chance to jam and socialize after the session.
URL:https://musicworkshopfolkestone.co.uk/calendar/the-guitar-workshop-beginners-63/
ATTACH;FMTTYPE=image/png:https://musicworkshopfolkestone.co.uk/wp-content/uploads/2025/10/The-Guitar-Workshop-GG-58.png
END:VEVENT
BEGIN:VEVENT
DTSTART;TZID=Europe/London:20261111T190000
DTEND;TZID=Europe/London:20261111T220000
DTSTAMP:20260421T223048
CREATED:20250422T083730Z
LAST-MODIFIED:20251125T212121Z
UID:10002859-1794423600-1794434400@musicworkshopfolkestone.co.uk
SUMMARY:The Guitar Workshop
DESCRIPTION:On Wednesday evenings\, The Music Workshop transforms into our guitar club. In a fun and supportive environment\, we’ll learn a setlist of songs tailored for all levels\, from beginners to advanced players. At the end of each term\, we come together for a group performance at The Music Workshop\, showcasing what we’ve learned to an audience. \nincluded each week:\n– 90-minute group session\, learning new songs and skills in a fun\, relaxed environment.\n– Expert group and individual tutoring.\n– A chance to jam and socialize after the session.\nClick below to find out more and join our group: \nThe Guitar Workshop
URL:https://musicworkshopfolkestone.co.uk/calendar/the-guitar-workshop-97/
ATTACH;FMTTYPE=image/png:https://musicworkshopfolkestone.co.uk/wp-content/uploads/2025/04/The-Guitar-Workshop-GG-8.png
END:VEVENT
BEGIN:VEVENT
DTSTART;TZID=Europe/London:20261112T180000
DTEND;TZID=Europe/London:20261112T230000
DTSTAMP:20260421T223048
CREATED:20251007T145251Z
LAST-MODIFIED:20251204T230827Z
UID:10003108-1794506400-1794524400@musicworkshopfolkestone.co.uk
SUMMARY:Thirsty Thursday Karaoke
DESCRIPTION:•Happy Hour all night\n•£4 pints\n•Happy Hour cocktails\n•Sing a karaoke song – get a free shot!
URL:https://musicworkshopfolkestone.co.uk/calendar/karaoke-cocktails-63/
ATTACH;FMTTYPE=image/png:https://musicworkshopfolkestone.co.uk/wp-content/uploads/2025/10/Best-Karaoke1-57.png
END:VEVENT
BEGIN:VEVENT
DTSTART;TZID=Europe/London:20261116T190000
DTEND;TZID=Europe/London:20261116T210000
DTSTAMP:20260421T223048
CREATED:20250422T083748Z
LAST-MODIFIED:20260421T181650Z
UID:10002861-1794855600-1794862800@musicworkshopfolkestone.co.uk
SUMMARY:Folkestone A Cappella Choir Rehearsals - Every Monday
DESCRIPTION:Folkestone A Cappella is a welcoming and friendly vocal group focused on creating beautiful harmonies together. We meet every Monday from 7-9pm at The Music Workshop\, Folkestone.
URL:https://musicworkshopfolkestone.co.uk/calendar/folkestone-a-cappella-choir-rehearsals-every-monday-192/
ATTACH;FMTTYPE=image/png:https://musicworkshopfolkestone.co.uk/wp-content/uploads/2025/04/Choir-pc-9.png
END:VEVENT
BEGIN:VEVENT
DTSTART;TZID=Europe/London:20261116T190000
DTEND;TZID=Europe/London:20261116T210000
DTSTAMP:20260421T223048
CREATED:20251023T152631Z
LAST-MODIFIED:20251125T212121Z
UID:10003200-1794855600-1794862800@musicworkshopfolkestone.co.uk
SUMMARY:The Guitar Workshop - Beginners
DESCRIPTION:On Wednesday evenings\, The Music Workshop transforms into our guitar club. In a fun and supportive environment\, we’ll learn a setlist of songs tailored for all levels\, from beginners to advanced players. At the end of each term\, we come together for a group performance at The Music Workshop\, showcasing what we’ve learned to an audience. \nincluded each week:\n– 90-minute group session\, learning new songs and skills in a fun\, relaxed environment.\n– Expert group and individual tutoring.\n– A chance to jam and socialize after the session.
URL:https://musicworkshopfolkestone.co.uk/calendar/the-guitar-workshop-beginners-64/
ATTACH;FMTTYPE=image/png:https://musicworkshopfolkestone.co.uk/wp-content/uploads/2025/10/The-Guitar-Workshop-GG-59.png
END:VEVENT
BEGIN:VEVENT
DTSTART;TZID=Europe/London:20261118T190000
DTEND;TZID=Europe/London:20261118T220000
DTSTAMP:20260421T223048
CREATED:20250422T083756Z
LAST-MODIFIED:20251125T212121Z
UID:10002862-1795028400-1795039200@musicworkshopfolkestone.co.uk
SUMMARY:The Guitar Workshop
DESCRIPTION:On Wednesday evenings\, The Music Workshop transforms into our guitar club. In a fun and supportive environment\, we’ll learn a setlist of songs tailored for all levels\, from beginners to advanced players. At the end of each term\, we come together for a group performance at The Music Workshop\, showcasing what we’ve learned to an audience. \nincluded each week:\n– 90-minute group session\, learning new songs and skills in a fun\, relaxed environment.\n– Expert group and individual tutoring.\n– A chance to jam and socialize after the session.\nClick below to find out more and join our group: \nThe Guitar Workshop
URL:https://musicworkshopfolkestone.co.uk/calendar/the-guitar-workshop-98/
ATTACH;FMTTYPE=image/png:https://musicworkshopfolkestone.co.uk/wp-content/uploads/2025/04/The-Guitar-Workshop-GG-9.png
END:VEVENT
BEGIN:VEVENT
DTSTART;TZID=Europe/London:20261119T180000
DTEND;TZID=Europe/London:20261119T230000
DTSTAMP:20260421T223048
CREATED:20251007T145257Z
LAST-MODIFIED:20251204T230827Z
UID:10003109-1795111200-1795129200@musicworkshopfolkestone.co.uk
SUMMARY:Thirsty Thursday Karaoke
DESCRIPTION:•Happy Hour all night\n•£4 pints\n•Happy Hour cocktails\n•Sing a karaoke song – get a free shot!
URL:https://musicworkshopfolkestone.co.uk/calendar/karaoke-cocktails-64/
ATTACH;FMTTYPE=image/png:https://musicworkshopfolkestone.co.uk/wp-content/uploads/2025/10/Best-Karaoke1-58.png
END:VEVENT
BEGIN:VEVENT
DTSTART;TZID=Europe/London:20261120T190000
DTEND;TZID=Europe/London:20261120T230000
DTSTAMP:20260421T223048
CREATED:20250422T083806Z
LAST-MODIFIED:20260421T181650Z
UID:10002863-1795201200-1795215600@musicworkshopfolkestone.co.uk
SUMMARY:Musical Bingo hosted by AiMATE
DESCRIPTION:Join us for a lively night of Musical Bingo at The Music Workshop. Hosted by the brilliant AiMATE\, this isn’t your average bingo night – expect great tunes\, singing along\, plenty of laughs\, and some fun prizes up for grabs. \n🎟 £5 per ticket (includes bingo cards)🎉 Music\, prizes\, and a full-on Friday night atmosphere⚠️ Not a quiet event – get ready to sing\, cheer\, and enjoy yourself!
URL:https://musicworkshopfolkestone.co.uk/calendar/musical-bingo-hosted-by-aimate-20/
ATTACH;FMTTYPE=image/jpeg:https://musicworkshopfolkestone.co.uk/wp-content/uploads/2025/04/PHOTO-2026-01-07-21-37-15-9.jpg
END:VEVENT
BEGIN:VEVENT
DTSTART;TZID=Europe/London:20261123T190000
DTEND;TZID=Europe/London:20261123T210000
DTSTAMP:20260421T223048
CREATED:20250422T083814Z
LAST-MODIFIED:20260421T181650Z
UID:10002865-1795460400-1795467600@musicworkshopfolkestone.co.uk
SUMMARY:Folkestone A Cappella Choir Rehearsals - Every Monday
DESCRIPTION:Folkestone A Cappella is a welcoming and friendly vocal group focused on creating beautiful harmonies together. We meet every Monday from 7-9pm at The Music Workshop\, Folkestone.
URL:https://musicworkshopfolkestone.co.uk/calendar/folkestone-a-cappella-choir-rehearsals-every-monday-193/
ATTACH;FMTTYPE=image/png:https://musicworkshopfolkestone.co.uk/wp-content/uploads/2025/04/Choir-pc-10.png
END:VEVENT
BEGIN:VEVENT
DTSTART;TZID=Europe/London:20261123T190000
DTEND;TZID=Europe/London:20261123T210000
DTSTAMP:20260421T223048
CREATED:20251023T152639Z
LAST-MODIFIED:20251125T212121Z
UID:10003201-1795460400-1795467600@musicworkshopfolkestone.co.uk
SUMMARY:The Guitar Workshop - Beginners
DESCRIPTION:On Wednesday evenings\, The Music Workshop transforms into our guitar club. In a fun and supportive environment\, we’ll learn a setlist of songs tailored for all levels\, from beginners to advanced players. At the end of each term\, we come together for a group performance at The Music Workshop\, showcasing what we’ve learned to an audience. \nincluded each week:\n– 90-minute group session\, learning new songs and skills in a fun\, relaxed environment.\n– Expert group and individual tutoring.\n– A chance to jam and socialize after the session.
URL:https://musicworkshopfolkestone.co.uk/calendar/the-guitar-workshop-beginners-65/
ATTACH;FMTTYPE=image/png:https://musicworkshopfolkestone.co.uk/wp-content/uploads/2025/10/The-Guitar-Workshop-GG-60.png
END:VEVENT
BEGIN:VEVENT
DTSTART;TZID=Europe/London:20261125T190000
DTEND;TZID=Europe/London:20261125T220000
DTSTAMP:20260421T223048
CREATED:20250422T083822Z
LAST-MODIFIED:20251125T212122Z
UID:10002866-1795633200-1795644000@musicworkshopfolkestone.co.uk
SUMMARY:The Guitar Workshop
DESCRIPTION:On Wednesday evenings\, The Music Workshop transforms into our guitar club. In a fun and supportive environment\, we’ll learn a setlist of songs tailored for all levels\, from beginners to advanced players. At the end of each term\, we come together for a group performance at The Music Workshop\, showcasing what we’ve learned to an audience. \nincluded each week:\n– 90-minute group session\, learning new songs and skills in a fun\, relaxed environment.\n– Expert group and individual tutoring.\n– A chance to jam and socialize after the session.\nClick below to find out more and join our group: \nThe Guitar Workshop
URL:https://musicworkshopfolkestone.co.uk/calendar/the-guitar-workshop-99/
ATTACH;FMTTYPE=image/png:https://musicworkshopfolkestone.co.uk/wp-content/uploads/2025/04/The-Guitar-Workshop-GG-10.png
END:VEVENT
BEGIN:VEVENT
DTSTART;TZID=Europe/London:20261126T180000
DTEND;TZID=Europe/London:20261126T230000
DTSTAMP:20260421T223048
CREATED:20251007T145304Z
LAST-MODIFIED:20251204T230827Z
UID:10003110-1795716000-1795734000@musicworkshopfolkestone.co.uk
SUMMARY:Thirsty Thursday Karaoke
DESCRIPTION:•Happy Hour all night\n•£4 pints\n•Happy Hour cocktails\n•Sing a karaoke song – get a free shot!
URL:https://musicworkshopfolkestone.co.uk/calendar/karaoke-cocktails-65/
ATTACH;FMTTYPE=image/png:https://musicworkshopfolkestone.co.uk/wp-content/uploads/2025/10/Best-Karaoke1-59.png
END:VEVENT
BEGIN:VEVENT
DTSTART;TZID=Europe/London:20261129T160000
DTEND;TZID=Europe/London:20261129T180000
DTSTAMP:20260421T223048
CREATED:20250201T234647Z
LAST-MODIFIED:20260421T183135Z
UID:10002659-1795968000-1795975200@musicworkshopfolkestone.co.uk
SUMMARY:Lucy May Walker's Writer's Round
DESCRIPTION:Lucy May Walker’s monthly Writer’s Round is an afternoon of original music in the style of a Nashville writers round where 3 featured artists sit on the stage at the same time and take turns in playing their songs & telling the stories behind them. Discover your new favourite artist in an intimate\, cosy setting by the seaside.
URL:https://musicworkshopfolkestone.co.uk/calendar/lucy-may-walkers-writers-round-22/
END:VEVENT
BEGIN:VEVENT
DTSTART;TZID=Europe/London:20261130T190000
DTEND;TZID=Europe/London:20261130T210000
DTSTAMP:20260421T223048
CREATED:20250422T083841Z
LAST-MODIFIED:20260421T181650Z
UID:10002868-1796065200-1796072400@musicworkshopfolkestone.co.uk
SUMMARY:Folkestone A Cappella Choir Rehearsals - Every Monday
DESCRIPTION:Folkestone A Cappella is a welcoming and friendly vocal group focused on creating beautiful harmonies together. We meet every Monday from 7-9pm at The Music Workshop\, Folkestone.
URL:https://musicworkshopfolkestone.co.uk/calendar/folkestone-a-cappella-choir-rehearsals-every-monday-194/
ATTACH;FMTTYPE=image/png:https://musicworkshopfolkestone.co.uk/wp-content/uploads/2025/04/Choir-pc-11.png
END:VEVENT
BEGIN:VEVENT
DTSTART;TZID=Europe/London:20261130T190000
DTEND;TZID=Europe/London:20261130T210000
DTSTAMP:20260421T223048
CREATED:20251023T152647Z
LAST-MODIFIED:20251125T212134Z
UID:10003202-1796065200-1796072400@musicworkshopfolkestone.co.uk
SUMMARY:The Guitar Workshop - Beginners
DESCRIPTION:On Wednesday evenings\, The Music Workshop transforms into our guitar club. In a fun and supportive environment\, we’ll learn a setlist of songs tailored for all levels\, from beginners to advanced players. At the end of each term\, we come together for a group performance at The Music Workshop\, showcasing what we’ve learned to an audience. \nincluded each week:\n– 90-minute group session\, learning new songs and skills in a fun\, relaxed environment.\n– Expert group and individual tutoring.\n– A chance to jam and socialize after the session.
URL:https://musicworkshopfolkestone.co.uk/calendar/the-guitar-workshop-beginners-66/
ATTACH;FMTTYPE=image/png:https://musicworkshopfolkestone.co.uk/wp-content/uploads/2025/10/The-Guitar-Workshop-GG-61.png
END:VEVENT
BEGIN:VEVENT
DTSTART;TZID=Europe/London:20261202T190000
DTEND;TZID=Europe/London:20261202T220000
DTSTAMP:20260421T223048
CREATED:20250422T083849Z
LAST-MODIFIED:20251125T212134Z
UID:10002869-1796238000-1796248800@musicworkshopfolkestone.co.uk
SUMMARY:The Guitar Workshop
DESCRIPTION:On Wednesday evenings\, The Music Workshop transforms into our guitar club. In a fun and supportive environment\, we’ll learn a setlist of songs tailored for all levels\, from beginners to advanced players. At the end of each term\, we come together for a group performance at The Music Workshop\, showcasing what we’ve learned to an audience. \nincluded each week:\n– 90-minute group session\, learning new songs and skills in a fun\, relaxed environment.\n– Expert group and individual tutoring.\n– A chance to jam and socialize after the session.\nClick below to find out more and join our group: \nThe Guitar Workshop
URL:https://musicworkshopfolkestone.co.uk/calendar/the-guitar-workshop-100/
ATTACH;FMTTYPE=image/png:https://musicworkshopfolkestone.co.uk/wp-content/uploads/2025/04/The-Guitar-Workshop-GG-11.png
END:VEVENT
BEGIN:VEVENT
DTSTART;TZID=Europe/London:20261203T180000
DTEND;TZID=Europe/London:20261203T230000
DTSTAMP:20260421T223048
CREATED:20251007T145310Z
LAST-MODIFIED:20251204T230838Z
UID:10003111-1796320800-1796338800@musicworkshopfolkestone.co.uk
SUMMARY:Thirsty Thursday Karaoke
DESCRIPTION:•Happy Hour all night\n•£4 pints\n•Happy Hour cocktails\n•Sing a karaoke song – get a free shot!
URL:https://musicworkshopfolkestone.co.uk/calendar/karaoke-cocktails-66/
ATTACH;FMTTYPE=image/png:https://musicworkshopfolkestone.co.uk/wp-content/uploads/2025/10/Best-Karaoke1-60.png
END:VEVENT
BEGIN:VEVENT
DTSTART;TZID=Europe/London:20261204T180000
DTEND;TZID=Europe/London:20261204T230000
DTSTAMP:20260421T223048
CREATED:20250422T083900Z
LAST-MODIFIED:20260118T213324Z
UID:10002870-1796407200-1796425200@musicworkshopfolkestone.co.uk
SUMMARY:Jimmy's Jam
DESCRIPTION:Jam Night hosted by Jimmy and the Riddles – first Friday of every month\, free entry!
URL:https://musicworkshopfolkestone.co.uk/calendar/jimmys-jam-23/
END:VEVENT
BEGIN:VEVENT
DTSTART;TZID=Europe/London:20261204T190000
DTEND;TZID=Europe/London:20261204T230000
DTSTAMP:20260421T223048
CREATED:20260416T174932Z
LAST-MODIFIED:20260421T183135Z
UID:10003344-1796410800-1796425200@musicworkshopfolkestone.co.uk
SUMMARY:MUSIC QUIZ: SMASHED HITS
DESCRIPTION:The Ultimate Millennial Music Quiz\n£5 per player – maximum of 6 players per team 7pm
URL:https://musicworkshopfolkestone.co.uk/calendar/music-quiz-smashed-hits-8/
END:VEVENT
BEGIN:VEVENT
DTSTART;TZID=Europe/London:20261207T190000
DTEND;TZID=Europe/London:20261207T210000
DTSTAMP:20260421T223048
CREATED:20250422T083908Z
LAST-MODIFIED:20260421T181651Z
UID:10002872-1796670000-1796677200@musicworkshopfolkestone.co.uk
SUMMARY:Folkestone A Cappella Choir Rehearsals - Every Monday
DESCRIPTION:Folkestone A Cappella is a welcoming and friendly vocal group focused on creating beautiful harmonies together. We meet every Monday from 7-9pm at The Music Workshop\, Folkestone.
URL:https://musicworkshopfolkestone.co.uk/calendar/folkestone-a-cappella-choir-rehearsals-every-monday-195/
ATTACH;FMTTYPE=image/png:https://musicworkshopfolkestone.co.uk/wp-content/uploads/2025/04/Choir-pc-12.png
END:VEVENT
BEGIN:VEVENT
DTSTART;TZID=Europe/London:20261207T190000
DTEND;TZID=Europe/London:20261207T210000
DTSTAMP:20260421T223048
CREATED:20251023T152654Z
LAST-MODIFIED:20251125T212134Z
UID:10003203-1796670000-1796677200@musicworkshopfolkestone.co.uk
SUMMARY:The Guitar Workshop - Beginners
DESCRIPTION:On Wednesday evenings\, The Music Workshop transforms into our guitar club. In a fun and supportive environment\, we’ll learn a setlist of songs tailored for all levels\, from beginners to advanced players. At the end of each term\, we come together for a group performance at The Music Workshop\, showcasing what we’ve learned to an audience. \nincluded each week:\n– 90-minute group session\, learning new songs and skills in a fun\, relaxed environment.\n– Expert group and individual tutoring.\n– A chance to jam and socialize after the session.
URL:https://musicworkshopfolkestone.co.uk/calendar/the-guitar-workshop-beginners-67/
ATTACH;FMTTYPE=image/png:https://musicworkshopfolkestone.co.uk/wp-content/uploads/2025/10/The-Guitar-Workshop-GG-62.png
END:VEVENT
BEGIN:VEVENT
DTSTART;TZID=Europe/London:20261209T190000
DTEND;TZID=Europe/London:20261209T220000
DTSTAMP:20260421T223048
CREATED:20250422T083916Z
LAST-MODIFIED:20251125T212134Z
UID:10002873-1796842800-1796853600@musicworkshopfolkestone.co.uk
SUMMARY:The Guitar Workshop
DESCRIPTION:On Wednesday evenings\, The Music Workshop transforms into our guitar club. In a fun and supportive environment\, we’ll learn a setlist of songs tailored for all levels\, from beginners to advanced players. At the end of each term\, we come together for a group performance at The Music Workshop\, showcasing what we’ve learned to an audience. \nincluded each week:\n– 90-minute group session\, learning new songs and skills in a fun\, relaxed environment.\n– Expert group and individual tutoring.\n– A chance to jam and socialize after the session.\nClick below to find out more and join our group: \nThe Guitar Workshop
URL:https://musicworkshopfolkestone.co.uk/calendar/the-guitar-workshop-101/
ATTACH;FMTTYPE=image/png:https://musicworkshopfolkestone.co.uk/wp-content/uploads/2025/04/The-Guitar-Workshop-GG-12.png
END:VEVENT
BEGIN:VEVENT
DTSTART;TZID=Europe/London:20261210T180000
DTEND;TZID=Europe/London:20261210T230000
DTSTAMP:20260421T223048
CREATED:20251007T145317Z
LAST-MODIFIED:20251204T230839Z
UID:10003112-1796925600-1796943600@musicworkshopfolkestone.co.uk
SUMMARY:Thirsty Thursday Karaoke
DESCRIPTION:•Happy Hour all night\n•£4 pints\n•Happy Hour cocktails\n•Sing a karaoke song – get a free shot!
URL:https://musicworkshopfolkestone.co.uk/calendar/karaoke-cocktails-67/
ATTACH;FMTTYPE=image/png:https://musicworkshopfolkestone.co.uk/wp-content/uploads/2025/10/Best-Karaoke1-61.png
END:VEVENT
BEGIN:VEVENT
DTSTART;TZID=Europe/London:20261214T190000
DTEND;TZID=Europe/London:20261214T210000
DTSTAMP:20260421T223048
CREATED:20250422T083935Z
LAST-MODIFIED:20260421T181651Z
UID:10002875-1797274800-1797282000@musicworkshopfolkestone.co.uk
SUMMARY:Folkestone A Cappella Choir Rehearsals - Every Monday
DESCRIPTION:Folkestone A Cappella is a welcoming and friendly vocal group focused on creating beautiful harmonies together. We meet every Monday from 7-9pm at The Music Workshop\, Folkestone.
URL:https://musicworkshopfolkestone.co.uk/calendar/folkestone-a-cappella-choir-rehearsals-every-monday-196/
ATTACH;FMTTYPE=image/png:https://musicworkshopfolkestone.co.uk/wp-content/uploads/2025/04/Choir-pc-13.png
END:VEVENT
BEGIN:VEVENT
DTSTART;TZID=Europe/London:20261214T190000
DTEND;TZID=Europe/London:20261214T210000
DTSTAMP:20260421T223048
CREATED:20251023T152703Z
LAST-MODIFIED:20251125T212147Z
UID:10003204-1797274800-1797282000@musicworkshopfolkestone.co.uk
SUMMARY:The Guitar Workshop - Beginners
DESCRIPTION:On Wednesday evenings\, The Music Workshop transforms into our guitar club. In a fun and supportive environment\, we’ll learn a setlist of songs tailored for all levels\, from beginners to advanced players. At the end of each term\, we come together for a group performance at The Music Workshop\, showcasing what we’ve learned to an audience. \nincluded each week:\n– 90-minute group session\, learning new songs and skills in a fun\, relaxed environment.\n– Expert group and individual tutoring.\n– A chance to jam and socialize after the session.
URL:https://musicworkshopfolkestone.co.uk/calendar/the-guitar-workshop-beginners-68/
ATTACH;FMTTYPE=image/png:https://musicworkshopfolkestone.co.uk/wp-content/uploads/2025/10/The-Guitar-Workshop-GG-63.png
END:VEVENT
BEGIN:VEVENT
DTSTART;TZID=Europe/London:20261216T190000
DTEND;TZID=Europe/London:20261216T220000
DTSTAMP:20260421T223048
CREATED:20250422T083942Z
LAST-MODIFIED:20251125T212147Z
UID:10002876-1797447600-1797458400@musicworkshopfolkestone.co.uk
SUMMARY:The Guitar Workshop
DESCRIPTION:On Wednesday evenings\, The Music Workshop transforms into our guitar club. In a fun and supportive environment\, we’ll learn a setlist of songs tailored for all levels\, from beginners to advanced players. At the end of each term\, we come together for a group performance at The Music Workshop\, showcasing what we’ve learned to an audience. \nincluded each week:\n– 90-minute group session\, learning new songs and skills in a fun\, relaxed environment.\n– Expert group and individual tutoring.\n– A chance to jam and socialize after the session.\nClick below to find out more and join our group: \nThe Guitar Workshop
URL:https://musicworkshopfolkestone.co.uk/calendar/the-guitar-workshop-102/
ATTACH;FMTTYPE=image/png:https://musicworkshopfolkestone.co.uk/wp-content/uploads/2025/04/The-Guitar-Workshop-GG-13.png
END:VEVENT
BEGIN:VEVENT
DTSTART;TZID=Europe/London:20261217T180000
DTEND;TZID=Europe/London:20261217T230000
DTSTAMP:20260421T223048
CREATED:20251007T145323Z
LAST-MODIFIED:20251204T230839Z
UID:10003113-1797530400-1797548400@musicworkshopfolkestone.co.uk
SUMMARY:Thirsty Thursday Karaoke
DESCRIPTION:•Happy Hour all night\n•£4 pints\n•Happy Hour cocktails\n•Sing a karaoke song – get a free shot!
URL:https://musicworkshopfolkestone.co.uk/calendar/karaoke-cocktails-68/
ATTACH;FMTTYPE=image/png:https://musicworkshopfolkestone.co.uk/wp-content/uploads/2025/10/Best-Karaoke1-62.png
END:VEVENT
END:VCALENDAR