BEGIN:VCALENDAR
VERSION:2.0
PRODID:-//The Music Workshop - ECPv6.8.3//NONSGML v1.0//EN
CALSCALE:GREGORIAN
METHOD:PUBLISH
X-WR-CALNAME:The Music Workshop
X-ORIGINAL-URL:https://musicworkshopfolkestone.co.uk
X-WR-CALDESC:Events for The Music Workshop
REFRESH-INTERVAL;VALUE=DURATION:PT1H
X-Robots-Tag:noindex
X-PUBLISHED-TTL:PT1H
BEGIN:VTIMEZONE
TZID:Europe/London
BEGIN:DAYLIGHT
TZOFFSETFROM:+0000
TZOFFSETTO:+0100
TZNAME:BST
DTSTART:20260329T010000
END:DAYLIGHT
BEGIN:STANDARD
TZOFFSETFROM:+0100
TZOFFSETTO:+0000
TZNAME:GMT
DTSTART:20261025T010000
END:STANDARD
END:VTIMEZONE
BEGIN:VEVENT
DTSTART;TZID=Europe/London:20260426T160000
DTEND;TZID=Europe/London:20260426T180000
DTSTAMP:20260426T014845
CREATED:20250201T234647Z
LAST-MODIFIED:20260425T114600Z
UID:10002652-1777219200-1777226400@musicworkshopfolkestone.co.uk
SUMMARY:Lucy May Walker's Writer's Round
DESCRIPTION:Lucy May Walker’s monthly Writer’s Round is an afternoon of original music in the style of a Nashville writers round where 3 featured artists sit on the stage at the same time and take turns in playing their songs & telling the stories behind them. Discover your new favourite artist in an intimate\, cosy setting by the seaside.
URL:https://musicworkshopfolkestone.co.uk/calendar/lucy-may-walkers-writers-round-15/
ATTACH;FMTTYPE=image/png:https://musicworkshopfolkestone.co.uk/wp-content/uploads/2025/02/April-2026-fixedd.png
END:VEVENT
END:VCALENDAR